Workbook

Sheet Open 4D
A1: NBHA District 2 4D Open Rider Name | B1: Spring Thaw Saturday | C1: Spring Thaw Sunday | D1: Shining Star - May 31 | E1: Southern Gnome - Sat | F1: Southern Gnome - Sun | G1: CDA Day SAT | H1: CDA Day SUN | I1: Crane Classic- Sat | J1: Crane Classic - Sun | K1: TCF Saturday | L1: Paint it Purple Sat | M1: Paint it Purple Sun | N1: Paris - Sat | O1: Paris - Sun | P1: Shining Star | Q1: Finals Friday | R1: TOTAL | S1: Invitational | T1: Awards
A2: 1D | L2: .
A3: Glenn Pattison | C3: 3 | I3: 5 | J3: 4 | K3: 3 | L3: 4 | N3: 5 | O3: 4 | R3: =SUM(B3:Q3) -> 28
A4: Aspenn Richards | B4: 5 | G4: 3 | I4: 4 | K4: 2 | L4: 3 | M4: 1 | N4: 4 | O4: 1 | R4: =SUM(B4:Q4) -> 23
A5: Nicole Bater | B5: 1 | C5: 2 | E5: 3 | L5: 1 | M5: 4 | O5: 3 | P5: 5 | R5: =SUM(B5:Q5) -> 19
A6: Dayle Osborne | E6: 5 | F6: 1 | J6: 5 | O6: 5 | R6: =SUM(B6:Q6) -> 16
A7: Ashley Gardiner | H7: 2 | I7: 1 | J7: 2 | L7: 5 | M7: 5 | R7: =SUM(B7:Q7) -> 15
A8: Jennifer Hazeleger | B8: 3 | C8: 5 | G8: 5 | R8: =SUM(B8:Q8) -> 13
A9: Heather Pople | D9: 4 | I9: 2 | O9: 2 | P9: 4 | R9: =SUM(B9:Q9) -> 12
A10: Tessa Nadalin | H10: 5 | K10: 5 | R10: =SUM(B10:Q10) -> 10
A11: Stacey Thomson | B11: 4 | D11: 5 | R11: =SUM(B11:Q11) -> 9
A12: Saige Woodland | D12: 2 | E12: 2 | N12: 3 | P12: 2 | R12: =SUM(B12:Q12) -> 9
A13: Sage Aulthouse | E13: 4 | F13: 4 | R13: =SUM(B13:Q13) -> 8
A14: Karen Briscoe | C14: 4 | K14: 4 | R14: =SUM(B14:Q14) -> 8
A15: Blake Vonda | F15: 5 | R15: =SUM(B15:Q15) -> 5
A16: Mack Moore | E16: 1 | F16: 3 | R16: =SUM(B16:Q16) -> 4
A17: Denise MacIver | G17: 4 | R17: =SUM(B17:Q17) -> 4
A18: Alycia Coultes | H18: 4 | R18: =SUM(B18:Q18) -> 4
A19: Tia Broughton | B19: 2 | L19: 2 | R19: =SUM(B19:Q19) -> 4
A20: Jayme Cook | D20: 3 | R20: =SUM(B20:Q20) -> 3
A21: Charlie Blanchet | H21: 3 | R21: =SUM(B21:Q21) -> 3
A22: Hayden Greenwood | G22: 2 | J22: 1 | R22: =SUM(B22:Q22) -> 3
A23: Brody Marshall | J23: 3 | R23: =SUM(B23:Q23) -> 3
A24: Bryelle Brunet | I24: 3 | R24: =SUM(B24:Q24) -> 3
A25: Ainsley Kosh | M25: 3 | R25: =SUM(B25:Q25) -> 3
A26: Sienna Sovereign | P26: 3 | R26: =SUM(B26:Q26) -> 3
A27: Patsy Wells | D27: 1 | G27: 1 | R27: =SUM(B27:Q27) -> 2
A28: Rachel Cameron | F28: 2 | R28: =SUM(B28:Q28) -> 2
A29: Amber Gregson | M29: 2 | R29: =SUM(B29:Q29) -> 2
A30: Mackenzie Murdoch | H30: 1 | R30: =SUM(B30:Q30) -> 1
R31: =SUM(B31:Q31) -> 0
R32: =SUM(B32:Q32) -> 0
R33: =SUM(B33:Q33) -> 0
R34: =SUM(B34:Q34) -> 0
R35: =SUM(B35:Q35) -> 0
R36: =SUM(B36:Q36) -> 0
R37: =SUM(B37:Q37) -> 0
R38: =SUM(B38:Q38) -> 0
R39: =SUM(B39:Q39) -> 0
R40: =SUM(B40:Q40) -> 0
A41: 2D
A42: Dayle Osborne | I42: 3 | J42: 5 | L42: 4 | N42: 5 | O42: 3 | R42: =SUM(B42:Q42) -> 20
A43: Caroline West | F43: 4 | H43: 3 | I43: 5 | O43: 5 | R43: =SUM(B43:Q43) -> 17
A44: Aspenn Richards | C44: 2 | E44: 4 | F44: 3 | I44: 1 | M44: 5 | R44: =SUM(B44:Q44) -> 15
A45: Tia Broughton | B45: 3 | C45: 5 | M45: 3 | O45: 4 | R45: =SUM(B45:Q45) -> 15
A46: Sienna Sovereign | F46: 5 | G46: 4.5 | H46: 5 | R46: =SUM(B46:Q46) -> 14.5
A47: Innzbruck Richads | G47: 3 | H47: 4 | J47: 4 | K47: 2 | R47: =SUM(B47:Q47) -> 13
A48: Nicole Bater | B48: 4 | D48: 5 | N48: 4 | R48: =SUM(B48:Q48) -> 13
A49: Hayden Greenwood | B49: 5 | C49: 4 | K49: 3 | R49: =SUM(B49:Q49) -> 12
A50: Denise MacIver | E50: 5 | H50: 2 | K50: 1 | O50: 2 | R50: =SUM(B50:Q50) -> 10
A51: denise Sroddart | L51: 5 | M51: 4 | R51: =SUM(B51:Q51) -> 9
A52: Amber Gregson | G52: 2 | H52: 1 | L52: 1 | N52: 3 | R52: =SUM(B52:Q52) -> 7
A53: Tessa Nadalin | I53: 4 | J53: 2 | R53: =SUM(B53:Q53) -> 6
A54: Emily Fournier | G54: 4.5 | J54: 1 | R54: =SUM(B54:Q54) -> 5.5
A55: Beody Marshall | K55: 5 | R55: =SUM(B55:Q55) -> 5
A56: Stacey Thomson | D56: 4 | R56: =SUM(B56:Q56) -> 4
A57: Lindsay Johnston | B57: 1 | C57: 3 | R57: =SUM(B57:Q57) -> 4
A58: Jesilyn Hammond | F58: 1 | J58: 3 | R58: =SUM(B58:Q58) -> 4
A59: Olivia Barger | M59: 2 | P59: 5 | R59: 4
A60: Heather Pople | K60: 4 | R60: =SUM(B60:Q60) -> 4
A61: Brittany Tessel | P61: 4 | R61: =SUM(B61:Q61) -> 4
A62: Sage Aulthouse | N62: 2 | P62: 2 | R62: =SUM(B62:Q62) -> 4
A63: Brandi Lloyd | D63: 3 | R63: =SUM(B63:Q63) -> 3
A64: Alex Stokes | E64: 3 | R64: =SUM(B64:Q64) -> 3
A65: Emma Woodcock | L65: 3 | R65: =SUM(B65:Q65) -> 3
A66: Ashley Gardiner | E66: 2 | N66: 1 | R66: =SUM(B66:Q66) -> 3
A67: Paige Peirce | P67: 3 | R67: =SUM(B67:Q67) -> 3
A68: Alycia Coultes | D68: 2 | R68: =SUM(B68:Q68) -> 2
A69: Saige Woodland | B69: 2 | R69: =SUM(B69:Q69) -> 2
A70: Herb Hopkins | D70: 1 | E70: 1 | R70: =SUM(B70:Q70) -> 2
A71: JoJo Willis | F71: 2 | R71: =SUM(B71:Q71) -> 2
A72: Brody Marshall | I72: 2 | R72: =SUM(B72:Q72) -> 2
A73: Kya Lafreniere | L73: 2 | R73: =SUM(B73:Q73) -> 2
A74: Layla Den Hollander | C74: 1 | R74: =SUM(B74:Q74) -> 1
A75: Brigitte Gagnon | G75: 1 | R75: =SUM(B75:Q75) -> 1
A76: William Nadalin | M76: 1 | R76: =SUM(B76:Q76) -> 1
A77: Lisa Serada | O77: 1 | R77: =SUM(B77:Q77) -> 1
R78: =SUM(B78:Q78) -> 0
R79: =SUM(B79:Q79) -> 0
R80: =SUM(B80:Q80) -> 0
R81: =SUM(B81:Q81) -> 0
R82: =SUM(B82:Q82) -> 0
R83: =SUM(B83:Q83) -> 0
R84: =SUM(B84:Q84) -> 0
R85: =SUM(B85:Q85) -> 0
R86: =SUM(B86:Q86) -> 0
R87: =SUM(B87:Q87) -> 0
R88: =SUM(B88:Q88) -> 0
R89: =SUM(B89:Q89) -> 0
... R98: =SUM(B98:Q98) -> 0
A99: 3D
A100: William Nadalin | K100: 2 | L100: 5 | M100: 1 | N100: 5 | P100: 5 | R100: =SUM(B100:Q100) -> 18
A101: Amber Gregson | E101: 5 | F101: 4 | I101: 3 | O101: 3 | R101: =SUM(B101:Q101) -> 15
A102: Safiyyah Leitch | D102: 3 | G102: 5 | L102: 4 | P102: 2 | R102: =SUM(B102:Q102) -> 14 | AC102: 17
A103: Elli Polisena | B103: 3 | E103: 1 | I103: 1 | M103: 3 | O103: 5 | R103: =SUM(B103:Q103) -> 13
A104: Tia Broughton | G104: 4 | H104: 3 | J104: 5 | R104: =SUM(B104:Q104) -> 12
A105: Jesilyn Hammond | E105: 3 | G105: 3 | H105: 2 | I105: 2 | R105: =SUM(B105:Q105) -> 10
A106: Lisa Serada | D106: 5 | M106: 5 | R106: =SUM(B106:Q106) -> 10
A107: Herb Hopkins | I107: 5 | J107: 1 | K107: 4 | R107: =SUM(B107:Q107) -> 10
A108: Olivia Barger | B108: 1 | D108: 4 | F108: 2 | N108: 3 | R108: =SUM(B108:Q108) -> 10
...

Sheet All Youth
A1: NBHA District 2 4D All Youth Rider Name | B1: Spring Thaw Saturday | C1: Spring Thaw Sunday | D1: Shining Star | E1: Southern Gnome - Sat | F1: Southern Gnome - Sun | G1: CDA Day sat | H1: CDA Day SUN | I1: ='Open 4D'!I1 -> Crane Classic- Sat | J1: ='Open 4D'!J1 -> Crane Classic - Sun | K1: TCF Saturday | L1: Paint it Purple Sat | M1: Paint it Purple Sun | N1: Paris - Sat | O1: Paris - Sun | P1: Shining Star | Q1: Finals Friday | R1: TOTAL | S1: Invitational | T1: Awards
A2: 1D | L2: .
A3: Hayden Greenwood | B3: 5 | C3: 5 | F3: 4 | H3: 4 | I3: 5 | J3: 5 | K3: 4 | L3: 4 | N3: 5 | R3: =SUM(B3:Q3) -> 41
A4: Olivia Barger | D4: 3 | E4: 2 | L4: 5 | M4: 4 | N4: 3 | O4: 5 | P4: 5 | R4: =SUM(B4:Q4) -> 27
A5: William Nadalin | G5: 5 | I5: 3 | K5: 3 | N5: 4 | O5: 3 | R5: =SUM(B5:Q5) -> 18
A6: Rachel Cameron | F6: 5 | I6: 4 | K6: 5 | R6: =SUM(B6:Q6) -> 14
A7: Elli Polisena | E7: 4 | I7: 2 | K7: 2 | O7: 2 | R7: =SUM(B7:Q7) -> 10
A8: Lindsay Johnston | B8: 4 | C8: 4 | R8: =SUM(B8:Q8) -> 8
A9: Kya Lafreniere | L9: 2 | N9: 2 | O9: 4 | R9: =SUM(B9:Q9) -> 8
A10: Saffiyah Leitch | D10: 5 | R10: =SUM(B10:Q10) -> 5
A11: Maddie McInerney | D11: 4 | K11: 1 | R11: =SUM(B11:Q11) -> 5
A12: Peyton Morrison | E12: 5 | R12: =SUM(B12:Q12) -> 5
A13: Charlie Blanchet | H13: 5 | R13: =SUM(B13:Q13) -> 5
A14: Avery Thomas | M14: 5 | R14: =SUM(B14:Q14) -> 5
A15: Brittney Phoenix | G15: 4 | R15: =SUM(B15:Q15) -> 4
A16: Paige Peirce | P16: 4 | R16: =SUM(B16:Q16) -> 4
A17: Leah Lebo | G17: 3 | P17: 1 | R17: =SUM(B17:Q17) -> 4
A18: Kelsey Boersma | B18: 3 | R18: =SUM(B18:Q18) -> 3
A19: Layla Den Hollander | C19: 3 | R19: =SUM(B19:Q19) -> 3
A20: Piper Holloway | E20: 3 | R20: =SUM(B20:Q20) -> 3
A21: Lily DenHollander | H21: 3 | R21: =SUM(B21:Q21) -> 3
A22: Emma Woodcock | L22: 3 | R22: =SUM(B22:Q22) -> 3
A23: Jo Jo Willis | G23: 2 | R23: =SUM(B23:Q23) -> 2
A25: 2D
A26: William Nadalin | J26: 5 | L26: 4 | M26: 4 | P26: 5 | R26: =SUM(B26:Q26) -> 18
A27: Elli Polisena | B27: 4 | H27: 3 | L27: 5 | M27: 5 | R27: =SUM(B27:Q27) -> 17
A28: Safiyyah Leitch | E28: 5 | G28: 1 | O28: 3 | P28: 3 | R28: =SUM(B28:Q28) -> 12
A29: Olivia Barger | B29: 3 | F29: 3 | H29: 5 | R29: =SUM(B29:Q29) -> 11
A30: JoJo Willis | E30: 4 | F30: 5 | R30: =SUM(B30:Q30) -> 9
A31: Emma Woodcock | G31: 4 | I31: 5 | R31: =SUM(B31:Q31) -> 9
A32: Rachel Cameron | J32: 4 | P32: 4 | R32: =SUM(B32:Q32) -> 8
A33: Hayden Greenwood | M33: 3 | O33: 5 | R33: =SUM(B33:Q33) -> 8
A34: Natalie Miller | G34: 3 | O34: 4 | R34: =SUM(B34:Q34) -> 7
A35: Leah Lebo | H35: 4 | L35: 3 | R35: =SUM(B35:Q35) -> 7
A36: Jazmin Morrison | D36: 5 | R36: =SUM(B36:Q36) -> 5
A37: Paige Peirce | B37: 5 | R37: =SUM(B37:Q37) -> 5
A38: Mila Bveaudoin | K38: 5 | R38: =SUM(B38:Q38) -> 5
A39: Lindsay Johnson | G39: 5 | R39: =SUM(B39:Q39) -> 5
A40: Jayden Smith | D40: 4 | R40: =SUM(B40:Q40) -> 4
A41: Peyton Morrison | F41: 4 | R41: =SUM(B41:Q41) -> 4
A42: Bryelle Brunet | I42: 4 | R42: =SUM(B42:Q42) -> 4
A43: Zoey Craig | H43: 3 | R43: =SUM(B43:Q43) -> 3
A44: Avery Thomas | L44: 2 | R44: =SUM(B44:Q44) -> 2
A45: Kya Lafreniere | G45: 2 | R45: =SUM(B45:Q45) -> 2
A46: Elyssa McEachern | M46: 2 | R46: =SUM(B46:Q46) -> 2
A47: 3D
A48: Mila Beaudoin | B48: 3 | C48: 4 | E48: 4 | F48: 5 | L48: 5 | M48: 5 | O48: 4 | R48: =SUM(B48:Q48) -> 30
A49: Elyssa McEachern | D49: 5 | G49: 4 | K49: 2 | L49: 3 | O49: 3 | P49: 3 | R49: =SUM(B49:Q49) -> 20
A50: Jorja Baker | E50: 3 | J50: 4 | K50: 4 | N50: 4 | R50: =SUM(B50:Q50) -> 15
A51: Jayden Smith | G51: 5 | K51: 3 | L51: 4 | P51: 2 | R51: =SUM(B51:Q51) -> 14
A52: Clara Wyville | K52: 5 | M52: 4 | P52: 4 | R52: =SUM(B52:Q52) -> 13
A53: Emma Woodcock | C53: 3 | E53: 5 | N53: 3 | R53: =SUM(B53:Q53) -> 11
A54: Madison Brockman | I54: 5 | O54: 5 | R54: =SUM(B54:Q54) -> 10
A55: Natalie Miller | H55: 5 | N55: 5 | R55: =SUM(B55:Q55) -> 10
A56: Caitlyn Binns | B56: 4 | C56: 5 | R56: =SUM(B56:Q56) -> 9
A57: Saffiyyah Leitch | F57: 4 | L57: 2 | M57: 3 | R57: =SUM(B57:Q57) -> 9
A58: Elli Polisena | J58: 5 | P58: 1 | R58: =SUM(B58:Q58) -> 6
A59: Brittney Phoenix | B59: 5 | R59: =SUM(B59:Q59) -> 5
A60: Paige Peirce | P60: 5 | R60: =SUM(B60:Q60) -> 5
A61: William Nadalin | H61: 4 | R61: =SUM(B61:Q61) -> 4
A62: Leah Hazeleger | K62: 1 | M62: 2 | R62: =SUM(B62:Q62) -> 3
R63: =SUM(B63:Q63) -> 0
R64: =SUM(B64:Q64) -> 0
R65: =SUM(B65:Q65) -> 0
R66: =SUM(B66:Q66) -> 0
A67: 4D Worlds
R68: =SUM(B68:Q68) -> 0
R69: =SUM(B69:Q69) -> 0
R70: =SUM(B70:Q70) -> 0
R71: =SUM(B71:Q71) -> 0
R72: =SUM(B72:Q72) -> 0
R73: =SUM(B73:Q73) -> 0
R74: =SUM(B74:Q74) -> 0
R75: =SUM(B75:Q75) -> 0
R76: =SUM(B76:Q76) -> 0
R77: =SUM(B77:Q77) -> 0
R78: =SUM(B78:Q78) -> 0
R79: =SUM(B79:Q79) -> 0
... R86: =SUM(B86:Q86) -> 0
A87: 4D(5D Worlds)
A88: Lacey Auld | C88: 1 | D88: 4 | E88: 5 | F88: 3 | I88: 2 | L88: 4 | M88: 4 | N88: 2 | O88: 5 | P88: 5 | R88: =SUM(B88:Q88) -> 35
A89: Madison Brockman | B89: 3 | C89: 2 | D89: 5 | F89: 4 | K89: 5 | R89: =SUM(B89:Q89) -> 19
A90: Leah Hazeleger | B90: 4 | C90: 5 | L90: 5 | R90: =SUM(B90:Q90) -> 14
A91: Jorja Baker | F91: 5 | G91: 4 | H91: 3 | R91: =SUM(B91:Q91) -> 12
A92: Emma Woodcock | J92: 5 | M92: 5 | R92: =SUM(B92:Q92) -> 10
A93: Jayden Smith | C93: 1 | I93: 5 | N93: 4 | R93: =SUM(B93:Q93) -> 10
A94: Elyssa McEachern | H94: 5 | N94: 5 | R94: =SUM(B94:Q94) -> 10
A95: Brooklyn Foulds | B95: 3 | C95: 4 | R95: =SUM(B95:Q95) -> 7
A96: Scarlett Nadalin | H96: 4 | I96: 3 | R96: =SUM(B96:Q96) -> 7
A97: Zoey Craig | K97: 4 | N97: 3 | R97: =SUM(B97:Q97) -> 7
A98: Brittney Phoenix | B98: 5 | R98: =SUM(B98:Q98) -> 5
A99: Danica Foulds | B99: 2 | C99: 3 | R99: =SUM(B99:Q99) -> 5
A100: Isla Dobbins | G100: 5 | R100: =SUM(B100:Q100) -> 5
A101: Mila Beaudoin | I101: 4 | R101: =SUM(B101:Q101) -> 4
R102: =SUM(B102:Q102) -> 0
R103: =SUM(B103:Q103) -> 0
R104: =SUM(B104:Q104) -> 0

Sheet Senior
A1: NBHA District 2 3D Senior Rider Name | B1: Spring Thaw Saturday | C1: Spring Thaw Sunday | D1: Shining Star - May 31 | E1: Southern Gnome - Sat | F1: Southern Gnome - Sun | G1: CDA Day Sat | H1: CDA Day Sun | I1: ='Open 4D'!I1 -> Crane Classic- Sat | J1: ='Open 4D'!J1 -> Crane Classic - Sun | K1: TCF Saturday | L1: Paint it Purple Sat | M1: Paint it Purple Sun | N1: Paris - Sat | O1: Paris - Sun | P1: Shining Star | Q1: Finals Friday | R1: TOTAL | S1: Invitational | T1: Awards
A2: 1D | L2: .
A3: Caroline West | B3: 3 | C3: 4 | D3: 2 | F3: 3 | G3: 4 | H3: 5 | I3: 4 | J3: 4 | K3: 4 | O3: 4 | P3: 5 | R3: =SUM(B3:Q3) -> 42
A4: Glenn Pattison | C4: 5 | I4: 5 | J4: 5 | K4: 5 | L4: 5 | N4: 5 | O4: 5 | R4: =SUM(B4:Q4) -> 35
A5: Herb Hopkins | D5: 3 | E5: 5 | F5: 4 | G5: 5 | K5: 3 | L5: 4 | M5: 4 | N5: 3 | R5: =SUM(B5:Q5) -> 31
A6: Lisa Serada | B6: 5 | D6: 5 | E6: 4 | G6: 2 | M6: 3 | O6: 3 | R6: =SUM(B6:Q6) -> 22
A7: Denise Stoddart | F7: 5 | J7: 3 | K7: 2 | L7: 3 | M7: 5 | R7: =SUM(B7:Q7) -> 18
A8: Louise Annett | G8: 3 | H8: 4 | N8: 4 | P8: 4 | R8: =SUM(B8:Q8) -> 15
A9: Jen Peirce | B9: 4 | H9: 3 | R9: =SUM(B9:Q9) -> 7
A10: Brandi Lloyd | D10: 4 | I10: 3 | R10: =SUM(B10:Q10) -> 7
A11: Tracey Sivill | B11: 2 | R11: =SUM(B11:Q11) -> 2
A12: Brian Schraeder | B12: 1 | G12: 1 | R12: =SUM(B12:Q12) -> 2
A15: 2D (3D Worlds)
A16: Lisa Serada | C16: 5 | F16: 4 | J16: 4 | K16: 4 | L16: 5 | N16: 5 | R16: =SUM(B16:Q16) -> 27
A17: Brian Schraeder | F17: 5 | H17: 5 | O17: 4 | R17: =SUM(B17:Q17) -> 14
A18: Louise Annett | K18: 5 | L18: 3 | O18: 5 | R18: =SUM(B18:Q18) -> 13
A19: Herb Hopkins | I19: 5 | J19: 5 | R19: =SUM(B19:Q19) -> 10
A20: Tracey Sivill | C20: 4 | D20: 5 | R20: =SUM(B20:Q20) -> 9
A21: Jen Pierce | G21: 5 | R21: =SUM(B21:Q21) -> 5
A22: Irene Wiles | G22: 4 | R22: =SUM(B22:Q22) -> 4
A23: Brandi Lloyd | L23: 4 | R23: =SUM(B23:Q23) -> 4
A24: Caroline West | N24: 4 | R24: =SUM(B24:Q24) -> 4
A25: Cindy Bedard | L25: 2 | R25: =SUM(B25:Q25) -> 2
A26: 3D ( 5D Worlds)
A27: Jan Schraeder | B27: 3 | C27: 4 | E27: 2 | F27: 1 | G27: 3 | H27: 4 | K27: 4 | L27: 4 | M27: 5 | N27: 5 | O27: 3 | R27: =SUM(B27:Q27) -> 38
A28: Irene Wiles | B28: 5 | E28: 3 | F28: 3 | H28: 5 | J28: 4 | K28: 3 | L28: 3 | M28: 1 | N28: 3 | O28: 2 | R28: =SUM(B28:Q28) -> 32
A29: Brenda Ciglen | D29: 5 | E29: 4 | H29: 3 | I29: 3 | K29: 5 | L29: 5 | M29: 2 | N29: 4 | O29: 1 | R29: =SUM(B29:Q29) -> 32
A30: Marc Gagnon | D30: 4 | F30: 2 | H30: 2 | I30: 1 | J30: 3 | L30: 2 | M30: 4 | N30: 2 | P30: 5 | R30: =SUM(B30:Q30) -> 25
A31: Brian Schraeder | C31: 5 | E31: 5 | F31: 5 | G31: 5 | I31: 4 | R31: =SUM(B31:Q31) -> 24
A32: Sarah Moore | B32: 4 | E32: 1 | F32: 4 | G32: 4 | H32: 1 | R32: =SUM(B32:Q32) -> 14
A33: Cindy Bedard | I33: 2 | K33: 2 | M33: 3 | O33: 5 | R33: =SUM(B33:Q33) -> 12
A34: Lisa Serada | I34: 5 | J34: 5 | R34: =SUM(B34:Q34) -> 10
A35: Herb Hopkins | O35: 4 | R35: =SUM(B35:Q35) -> 4
R36: =SUM(B36:Q36) -> 0

Sheet Poles
A1: NBHA District 2 3D Open Poles Rider Name | B1: Spring Thaw Friday | C1: Spring Thaw Sunday | D1: Shining Star - May 16 | E1: Southern Gnome - Sat | F1: Southern Gnome - Sun | G1: Canada Day Friday | H1: Canada Day SUN | I1: Crane Classic- Fri | J1: ='Open 4D'!J1 -> Crane Classic - Sun | K1: TCF Friday | L1: Paint it Purple Sat | M1: Paint it Purple Sun | N1: Paris - Fri | O1: Paris Sunday | P1: Shining Star - Sept | Q1: Finals Friday | R1: TOTAL | S1: Invitational | T1: Awards
A2: 1D | L2: .
A3: Ashley Gardiner | B3: 5 | C3: 5 | H3: 4 | J3: 4 | L3: 3 | M3: 3.5 | N3: 4 | O3: 4 | R3: =SUM(B3:Q3) -> 32.5
A4: Brody Marshall | D4: 5 | G4: 4 | I4: 5 | K4: 5 | M4: 5 | N4: 5 | R4: =SUM(B4:Q4) -> 29
A5: Denise Stoddart | F5: 5 | G5: 3 | H5: 5 | J5: 3 | L5: 5 | R5: =SUM(B5:Q5) -> 21
A6: Nicole Bater | J6: 2 | L6: 4 | O6: 5 | R6: =SUM(B6:Q6) -> 11
A7: Karen Briscoe | E7: 5 | G7: 5 | R7: =SUM(B7:Q7) -> 10
A8: Ainsley Kosh | J8: 5 | M8: 3.5 | R8: =SUM(B8:Q8) -> 8.5
A9: Herb Hopkins | H9: 3 | L9: 2 | R9: =SUM(B9:Q9) -> 5
A10: Paige Peirce | P10: 5 | R10: =SUM(B10:Q10) -> 5
A11: Saige Woodland | F11: 4 | R11: =SUM(B11:Q11) -> 4
A12: Brittany Tessel | J12: 4 | R12: =SUM(B12:Q12) -> 4
A13: Heather Pople | P13: 4 | R13: =SUM(B13:Q13) -> 4
A14: Jayden Smith | F14: 3 | R14: =SUM(B14:Q14) -> 3
A15: Safiyyah Leitch | P15: 3 | R15: =SUM(B15:Q15) -> 3
A16: 2D
A17: Herb Hopkins | I17: 5 | J17: 4 | M17: 5 | N17: 5 | O17: 5 | R17: =SUM(B17:Q17) -> 24
A18: Rachel Cameron | I18: 4 | K18: 4 | N18: 4 | P18: 4 | R18: =SUM(B18:Q18) -> 16
A19: Alycia Coulltes | D19: 5 | K19: 5 | L19: 5 | R19: =SUM(B19:Q19) -> 15
A20: Heather Pople | D20: 3 | F20: 4 | H20: 3 | R20: =SUM(B20:Q20) -> 10
A21: Denise Stoddart | G21: 5 | J21: 5 | R21: =SUM(B21:Q21) -> 10
A22: Nicole Bater | D22: 4 | H22: 4 | R22: =SUM(B22:Q22) -> 8
A23: Warren Craig | B23: 4 | F23: 3 | R23: =SUM(B23:Q23) -> 7
A24: Madison Brockman | L24: 4 | M24: 3 | R24: =SUM(B24:Q24) -> 7
A25: Layla Den Hollander | C25: 4 | K25: 2 | R25: =SUM(B25:Q25) -> 6
A26: Jayden Smith | L26: 3 | P26: 3 | R26: =SUM(B26:Q26) -> 6
A27: Mackenzie Murdoch | B27: 5 | R27: =SUM(B27:Q27) -> 5
A28: Olivia Den Hollander | C28: 5 | R28: =SUM(B28:Q28) -> 5
A29: Ashley Gardiner | E29: 5 | R29: =SUM(B29:Q29) -> 5
A30: James Wilson | F30: 5 | R30: =SUM(B30:Q30) -> 5
A31: JoJo Willis | H31: 5 | R31: =SUM(B31:Q31) -> 5
A32: Avery Thomas | P32: 5 | R32: =SUM(B32:Q32) -> 5
A33: Caroline West | M33: 4 | R33: =SUM(B33:Q33) -> 4
A34: Safiyyah Leitch | O34: 4 | R34: =SUM(B34:Q34) -> 4
A35: Morgan Fletcher | B35: 3 | R35: =SUM(B35:Q35) -> 3
A36: Saige Woodland | C36: 3 | R36: =SUM(B36:Q36) -> 3
A37: Louise Annett | K37: 3 | R37: =SUM(B37:Q37) -> 3
A38: Lily DenHollander | J38: 2 | R38: =SUM(B38:Q38) -> 2
A39: Clara Wyville | P39: 2 | R39: =SUM(B39:Q39) -> 2
A40: Kaeleigh Farrrington | B40: 2 | R40: =SUM(B40:Q40) -> 2
A41: Sage Aulthouse | F41: 2 | R41: =SUM(B41:Q41) -> 2
A42: 3D
A43: Warren Craig | C43: 4 | D43: 4 | H43: 2 | I43: 5 | J43: 2 | R43: =SUM(B43:Q43) -> 17
A44: Hayden Greenwood | F44: 5 | I44: 2 | K44: 5 | L44: 4 | R44: =SUM(B44:Q44) -> 16
A45: Louise Annett | J45: 5 | N45: 4 | O45: 5 | R45: =SUM(B45:Q45) -> 14
A46: Safiyyah Leitch | K46: 4 | L46: 5 | N46: 1 | R46: =SUM(B46:Q46) -> 10
A47: Olivia Den Hollander | B47: 5 | E47: 4 | R47: =SUM(B47:Q47) -> 9
A48: Brian Schraeder | I48: 3 | J48: 4 | L48: 2 | R48: =SUM(B48:Q48) -> 9
A49: Rachel Cameron | C49: 3 | D49: 5 | G49: 1 | R49: =SUM(B49:Q49) -> 9
A50: Irene Wiles | B50: 3 | C50: 1 | H50: 3 | L50: 1 | M50: 1 | R50: =SUM(B50:Q50) -> 9
A51: Madison Brockman | I51: 4 | K51: 3 | N51: 2 | R51: =SUM(B51:Q51) -> 9
A52: Herb Hopkins | D52: 3 | E52: 5 | R52: =SUM(B52:Q52) -> 8
A53: Saige Woodland | B53: 4 | E53: 1 | G53: 3 | R53: =SUM(B53:Q53) -> 8
A54: Scarlett Nadalin | L54: 3 | P54: 5 | R54: =SUM(B54:Q54) -> 8
A55: JoJo Willis | E55: 2 | G55: 5 | R55: =SUM(B55:Q55) -> 7
A56: Brody Marshall | B56: 2 | I56: 1 | M56: 3 | R56: =SUM(B56:Q56) -> 6
A57: Jayden Smith | J57: 3 | K57: 1 | M57: 2 | R57: =SUM(B57:Q57) -> 6
A58: Kaeleigh Farrington | C58: 5 | R58: =SUM(B58:Q58) -> 5
A59: Mirabelle Brunet | J59: 5 | R59: =SUM(B59:Q59) -> 5
A60: Dayle Osborne | J60: 1 | M60: 4 | R60: =SUM(B60:Q60) -> 5
A61: Clara Wyville | M61: 5 | R61: =SUM(B61:Q61) -> 5
A62: Libby Dufour | F62: 4 | H62: 1 | R62: =SUM(B62:Q62) -> 5
A63: Kya Lafreniere | N63: 5 | R63: =SUM(B63:Q63) -> 5
A64: Tamara Hook | D64: 1 | F64: 3 | R64: =SUM(B64:Q64) -> 4
A65: Nicole Bater | G65: 4 | R65: =SUM(B65:Q65) -> 4
A66: Jen Pierce | H66: 4 | R66: =SUM(B66:Q66) -> 4
A67: Hannah Elliott | O67: 4 | R67: =SUM(B67:Q67) -> 4
A68: Layla Den Hollander | E68: 3 | R68: =SUM(B68:Q68) -> 3
A69: Caroline West | N69: 3 | R69: =SUM(B69:Q69) -> 3
A70: Olivia Barger | O70: 3 | R70: =SUM(B70:Q70) -> 3
A71: Tonya Becker | D71: 2 | R71: =SUM(B71:Q71) -> 2
A72: Zoey Craig | C72: 2 | R72: =SUM(B72:Q72) -> 2
A73: brittany Phoenix | K73: 2 | R73: =SUM(B73:Q73) -> 2
A74: Morgan Fletcher | G74: 2 | R74: =SUM(B74:Q74) -> 2
A75: James Wilson | B75: 1 | O75: 1 | R75: =SUM(B75:Q75) -> 2
A76: Tessa Nadalin | O76: 2 | R76: =SUM(B76:Q76) -> 2
R77: =SUM(B77:Q77) -> 0
R78: =SUM(B78:Q78) -> 0

Sheet Green
A1: NBHA District 2 - 3D Green as Grass Rider Name | B1: Spring thaw Sat | C1: Spring Thaw Sunday | D1: Shining Star - May 16 | E1: Southern Gnome - Sat | F1: Southern Gnome - Sun | G1: CDA Day Sat | H1: CDA Day Sun | I1: ='Open 4D'!I1 -> Crane Classic- Sat | J1: ='Open 4D'!J1 -> Crane Classic - Sun | K1: TCF Saturday | L1: Paint it Purple Sat | M1: Paint it Purple Sun | N1: Paris - Sat | O1: Paris - Sun | P1: Shining Star Sept | Q1: Finals Friday | R1: TOTAL | S1: Invitational | T1: Awards
A2: 1D | L2: .
A3: Mila Beoudoin | C3: 4 | F3: 4 | H3: 2 | I3: 5 | K3: 3 | L3: 3 | M3: 5 | R3: =SUM(B3:Q3) -> 26
A4: Brittney Phoenix | B4: 5 | C4: 5 | G4: 2 | H4: 4 | K4: 4 | R4: =SUM(B4:Q4) -> 20
A5: Leah Lebo | G5: 4 | H5: 3 | J5: 1 | L5: 5 | M5: 4 | N5: 5 | O5: 5 | R5: =SUM(B5:Q5) -> 27
A6: Jayden Smith | B6: 4 | C6: 3 | D6: 4 | J6: 2 | K6: 2 | M6: 2 | R6: =SUM(B6:Q6) -> 17
A7: Bryelle Brunet | G7: 3 | H7: 5 | J7: 5 | R7: =SUM(B7:Q7) -> 13
A8: Madison Brockman | J8: 4 | M8: 3 | N8: 3 | R8: =SUM(B8:Q8) -> 10
A9: Mirabelle Brunet | J9: 3 | K9: 5 | R9: =SUM(B9:Q9) -> 8
A10: Jase MacIver | H10: 1 | K10: 1 | L10: 4 | R10: =SUM(B10:Q10) -> 6
A11: Avery Thomas | P11: 5 | R11: =SUM(B11:Q11) -> 5
A12: Leah Hazeleger | B12: 2 | C12: 2 | R12: =SUM(B12:Q12) -> 4
A13: Elyssa McEachern | P13: 4 | R13: =SUM(B13:Q13) -> 4
A14: Natalie Miller | N14: 4 | R14: =SUM(B14:Q14) -> 4
A15: Jen Peirce | B15: 3 | R15: =SUM(B15:Q15) -> 3
A16: Christine Allen | B16: 1 | R16: =SUM(B16:Q16) -> 1
R17: =SUM(B17:Q17) -> 0
A20: Peyton Morrison | F20: 5 | G20: 5 | R20: =SUM(B20:Q20) -> 10 | T20: Graduateed Canada Day
A21: Hayden Greenwood | E21: 5 | R21: 0 | T21: Graduated Southern Gnome 6.6.2026
A22: William Nadalin | D22: 5 | R22: 0 | T22: Graduated Hanover 5.17.2026
R23: =SUM(B23:K23) -> 0
R24: =SUM(B24:K24) -> 0
R25: =SUM(B25:K25) -> 0
R26: =SUM(B26:K26) -> 0
R27: =SUM(B27:K27) -> 0
R28: =SUM(B28:K28) -> 0
R29: =SUM(B29:K29) -> 0
R30: =SUM(B30:K30) -> 0
R31: =SUM(B31:K31) -> 0
R32: =SUM(B32:K32) -> 0
R33: =SUM(B33:K33) -> 0
R34: =SUM(B34:K34) -> 0
R35: =SUM(B35:K35) -> 0
A36: 2D
A37: Scarlett Nadalin | I37: 5 | J37: 5 | L37: 5 | M37: 5 | N37: 5 | O37: 3 | P37: 5 | R37: =SUM(B37:Q37) -> 33
A38: Clara Wyville | D38: 5 | K38: 2 | L38: 4 | M38: 4 | O38: 7 | R38: =SUM(B38:Q38) -> 22
A39: Leah Hazeleger | C39: 3 | G39: 5 | K39: 4 | L39: 1 | N39: 4 | P39: 3 | R39: =SUM(B39:Q39) -> 20
A40: Jayden Smith | H40: 5 | I40: 3 | L40: 2 | N40: 3 | P40: 4 | R40: =SUM(B40:Q40) -> 17
A41: Madison Brockman | I41: 4 | K41: 5 | M41: 2 | R41: =SUM(B41:Q41) -> 11
A42: Brooklyn Foulds | B42: 4 | C42: 5 | R42: =SUM(B42:Q42) -> 9
A43: Mila Beoudoin | B43: 5 | E43: 4 | R43: =SUM(B43:Q43) -> 9
A44: Elyssa McEachern | L44: 3 | N44: 2 | R44: =SUM(B44:Q44) -> 5
A45: Peyton Morrison | E45: 5 | R45: =SUM(B45:Q45) -> 5
A46: Jan Schraeder | J46: 4 | R46: =SUM(B46:Q46) -> 4
A47: Mireille Lafleur | I47: 2 | K47: 3 | R47: =SUM(B47:Q47) -> 5
A48: Natalie Miller | O48: 5 | R48: =SUM(B48:Q48) -> 5
A49: Briar George | C49: 4 | R49: =SUM(B49:Q49) -> 4
A50: Jase Maciver | M50: 3 | R50: =SUM(B50:Q50) -> 3
A51: Danica Foulds | C51: 2 | R51: =SUM(B51:Q51) -> 2
A52: 3D
A53: Jan Schraeder | B53: 5 | C53: 4 | E53: 4 | F53: 3 | H53: 5 | I53: 5 | K53: 4 | L53: 5 | N53: 4 | O53: 5 | R53: =SUM(B53:Q53) -> 44
A54: Lacey Auld | C54: 1 | E54: 2 | F54: 2 | L54: 4 | M54: 5 | N54: 3 | O54: 3 | P54: 5 | R54: =SUM(B54:Q54) -> 25
A55: Madison Brockman | B55: 2 | C55: 5 | D55: 3 | E55: 3 | F55: 5 | R55: =SUM(B55:Q55) -> 18
A56: Mirelle Lafleur | G56: 5 | H56: 4 | R56: =SUM(B56:Q56) -> 9
A57: Sarah Moore | C57: 3 | F57: 4 | R57: =SUM(B57:Q57) -> 7
A58: Morgan Fletcher | B58: 1 | D58: 5 | R58: =SUM(B58:Q58) -> 6
A59: Scarlett Nadalin | D59: 1 | K59: 5 | R59: =SUM(B59:Q59) -> 6
A60: Jase Maciver | E60: 5 | R60: =SUM(B60:Q60) -> 5
A61: Mila Beoudoin | N61: 5 | R61: =SUM(B61:Q61) -> 5
A62: Elyssa McEachern | D62: 4 | R62: =SUM(B62:Q62) -> 4
A63: Danica Foulds | B63: 4 | R63: =SUM(B63:Q63) -> 4
A64: Jayden Smith | O64: 4 | R64: =SUM(B64:Q64) -> 4
A65: Leah Hazeleger | B65: 3 | R65: =SUM(B65:Q65) -> 3
A66: Addison Fletcher | D66: 2 | R66: =SUM(B66:Q66) -> 2
A67: Aoife Kirk | C67: 2 | R67: =SUM(B67:Q67) -> 2

Sheet Member2
A2: As of 5.18.2026 | I2: As of 7.7.2026 | Q2: As of 9.12.2026
A3: Member ID | B3: Type | C3: Last Name | D3: First Name | E3: Birth Date | F3: State & Section | G3: Expire Date | I3: Member ID | J3: Type | K3: Last Name | L3: First Name | M3: Birth Date | N3: State & Section | O3: Expire Date | Q3: Member ID | R3: Type | S3: Last Name | T3: First Name | U3: Birth Date | V3: State & Section | W3: Expire Date
A4: 126852 | B4: Adult | C4: Allen | D4: Christine | E4: 1990-12-18 | F4: Ontario - ON02 | G4: 2027-01-01 | I4: 126852 | J4: Adult | K4: Allen | L4: Christine | M4: 1990-12-18 | N4: Ontario - ON02 | O4: 2027-01-01 | P4: =A4=I4 -> TRUE | Q4: 126852 | R4: Adult | S4: Allen | T4: Christine | U4: 1990-12-18 | V4: Ontario - ON02 | W4: 2027-01-01 | X4: =I4=Q4 -> TRUE
A5: 64935 | B5: Adult | C5: Annett | D5: Louise | E5: 1966-07-16 | F5: Ontario - ON02 | G5: 2027-01-01 | I5: 64935 | J5: Adult | K5: Annett | L5: Louise | M5: 1966-07-16 | N5: Ontario - ON02 | O5: 2027-01-01 | P5: =A5=I5 -> TRUE | Q5: 64935 | R5: Adult | S5: Annett | T5: Louise | U5: 1966-07-16 | V5: Ontario - ON02 | W5: 2027-01-01 | X5: =I5=Q5 -> TRUE
A6: 134228 | B6: Youth | C6: Auld | D6: Lacey | E6: 2016-03-11 | F6: Ontario - ON02 | G6: 2027-01-01 | I6: 134228 | J6: Youth | K6: Auld | L6: Lacey | M6: 2016-03-11 | N6: Ontario - ON02 | O6: 2027-01-01 | P6: =A6=I6 -> TRUE | Q6: 134228 | R6: Youth | S6: Auld | T6: Lacey | U6: 2016-03-11 | V6: Ontario - ON02 | W6: 2027-01-01 | X6: =I6=Q6 -> TRUE
A7: 103142 | B7: Adult | C7: Aulthouse | D7: Sage | E7: 1998-07-03 | F7: Ontario - ON02 | G7: 2027-01-01 | I7: 103142 | J7: Adult | K7: Aulthouse | L7: Sage | M7: 1998-07-03 | N7: Ontario - ON02 | O7: 2027-01-01 | P7: =A7=I7 -> TRUE | Q7: 103142 | R7: Adult | S7: Aulthouse | T7: Sage | U7: 1998-07-03 | V7: Ontario - ON02 | W7: 2027-01-01 | X7: =I7=Q7 -> TRUE
A8: 129433 | B8: Youth | C8: Barger | D8: Olivia | E8: 2009-10-04 | F8: Ontario - ON02 | G8: 2028-01-01 | I8: 129433 | J8: Youth | K8: Barger | L8: Olivia | M8: 2009-10-04 | N8: Ontario - ON02 | O8: 2028-01-01 | P8: =A8=I8 -> TRUE | Q8: 129433 | R8: Youth | S8: Barger | T8: Olivia | U8: 2009-10-04 | V8: Ontario - ON02 | W8: 2028-01-01 | X8: =I8=Q8 -> TRUE
A9: 132718 | B9: Adult | C9: Bater | D9: Nicole | E9: 2000-07-15 | F9: Ontario - ON02 | G9: 2027-01-01 | I9: 132718 | J9: Adult | K9: Bater | L9: Nicole | M9: 2000-07-15 | N9: Ontario - ON02 | O9: 2027-01-01 | P9: =A9=I9 -> TRUE | Q9: 132718 | R9: Adult | S9: Bater | T9: Nicole | U9: 2000-07-15 | V9: Ontario - ON02 | W9: 2027-01-01 | X9: =I9=Q9 -> TRUE
A10: 129526 | B10: Youth | C10: Beaudoin | D10: Mila | E10: 2012-01-10 | F10: Ontario - ON02 | G10: 2027-01-01 | I10: 129526 | J10: Youth | K10: Beaudoin | L10: Mila | M10: 2012-01-10 | N10: Ontario - ON02 | O10: 2027-01-01 | P10: =A10=I10 -> TRUE | Q10: 129526 | R10: Youth | S10: Beaudoin | T10: Mila | U10: 2012-01-10 | V10: Ontario - ON02 | W10: 2027-01-01 | X10: =I10=Q10 -> TRUE
A11: 82650 | B11: Adult | C11: Becker | D11: Tonya | E11: 1989-07-10 | F11: Ontario - ON02 | G11: 2027-01-01 | I11: 82650 | J11: Adult | K11: Becker | L11: Tonya | M11: 1989-07-10 | N11: Ontario - ON02 | O11: 2027-01-01 | P11: =A11=I11 -> TRUE | Q11: 82650 | R11: Adult | S11: Becker | T11: Tonya | U11: 1989-07-10 | V11: Ontario - ON02 | W11: 2027-01-01 | X11: =I11=Q11 -> TRUE
A12: 111809 | B12: Adult | C12: Bedard | D12: Cindy | E12: 1964-08-08 | F12: Ontario - ON02 | G12: 2027-01-01 | I12: 111809 | J12: Adult | K12: Bedard | L12: Cindy | M12: 1964-08-08 | N12: Ontario - ON02 | O12: 2027-01-01 | P12: =A12=I12 -> TRUE | Q12: 111809 | R12: Adult | S12: Bedard | T12: Cindy | U12: 1964-08-08 | V12: Ontario - ON02 | W12: 2027-01-01 | X12: =I12=Q12 -> TRUE
A13: 134129 | B13: Youth | C13: Binns | D13: Caitlyn | E13: 2007-04-08 | F13: Ontario - ON02 | G13: 2027-01-01 | I13: 134129 | J13: Youth | K13: Binns | L13: Caitlyn | M13: 2007-04-08 | N13: Ontario - ON02 | O13: 2027-01-01 | P13: =A13=I13 -> TRUE | Q13: 134129 | R13: Youth | S13: Binns | T13: Caitlyn | U13: 2007-04-08 | V13: Ontario - ON02 | W13: 2027-01-01 | X13: =I13=Q13 -> TRUE
A14: 121237 | B14: Youth | C14: Blanchet | D14: Charlie | E14: 2008-12-25 | F14: Ontario - ON02 | G14: 2027-01-01 | I14: 121237 | J14: Youth | K14: Blanchet | L14: Charlie | M14: 2008-12-25 | N14: Ontario - ON02 | O14: 2027-01-01 | P14: =A14=I14 -> TRUE | Q14: 121237 | R14: Youth | S14: Blanchet | T14: Charlie | U14: 2008-12-25 | V14: Ontario - ON02 | W14: 2027-01-01 | X14: =I14=Q14 -> TRUE
A15: 134072 | B15: Youth | C15: Boersma | D15: Kelsey | E15: 2009-03-13 | F15: Ontario - ON02 | G15: 2027-01-01 | I15: 134072 | J15: Youth | K15: Boersma | L15: Kelsey | M15: 2009-03-13 | N15: Ontario - ON02 | O15: 2027-01-01 | P15: =A15=I15 -> TRUE | Q15: 134072 | R15: Youth | S15: Boersma | T15: Kelsey | U15: 2009-03-13 | V15: Ontario - ON02 | W15: 2027-01-01 | X15: =I15=Q15 -> TRUE
... A20: 134426 | B20: Adult | C20: Ciglen | D20: Brenda | E20: 1962-09-21 | F20: Ontario - ON02 | G20: 2027-01-01 | I20: 131660 | J20: Youth | K20: Brunet | L20: Mirabelle | M20: 2016-05-27 | N20: Ontario - ON02 | O20: 2027-01-01 | P20: =A20=I20 -> FALSE | Q20: 131660 | R20: Youth | S20: Brunet | T20: Mirabelle | U20: 2016-05-27 | V20: Ontario - ON02 | W20: 2027-01-01 | X20: =I20=Q20 -> TRUE
A21: 108994 | B21: Adult | C21: Ciglen | D21: Madison | E21: 2004-11-01 | F21: Ontario - ON02 | G21: 2029-01-01 | I21: 110939 | J21: Youth | K21: Cameron | L21: Rachel | M21: 2007-09-20 | N21: Ontario - ON02 | O21: 2027-01-01 | P21: =A19=I21 -> TRUE | Q21: 110939 | R21: Youth | S21: Cameron | T21: Rachel | U21: 2007-09-20 | V21: Ontario - ON02 | W21: 2027-01-01 | X21: =I21=Q21 -> TRUE
A22: 121661 | B22: Youth | C22: Clarke | D22: Kyla | E22: 2009-03-08 | F22: Ontario - ON02 | G22: 2027-01-01 | I22: 134426 | J22: Adult | K22: Ciglen | L22: Brenda | M22: 1962-09-21 | N22: Ontario - ON02 | O22: 2027-01-01 | P22: =A20=I22 -> TRUE | Q22: 134426 | R22: Adult | S22: Ciglen | T22: Brenda | U22: 1962-09-21 | V22: Ontario - ON02 | W22: 2027-01-01 | X22: =I22=Q22 -> TRUE
A23: 70553 | B23: Adult | C23: Cook | D23: Jayme | E23: 1984-07-27 | F23: Ontario - ON02 | G23: 2027-01-01 | I23: 108994 | J23: Adult | K23: Ciglen | L23: Madison | M23: 2004-11-01 | N23: Ontario - ON02 | O23: 2029-01-01 | P23: =A21=I23 -> TRUE | Q23: 108994 | R23: Adult | S23: Ciglen | T23: Madison | U23: 2004-11-01 | V23: Ontario - ON02 | W23: 2029-01-01 | X23: =I23=Q23 -> TRUE
A24: 115290 | B24: Youth | C24: Cooper | D24: Gwen | E24: 2007-09-26 | F24: Ontario - ON02 | G24: 2027-01-01 | I24: 121661 | J24: Youth | K24: Clarke | L24: Kyla | M24: 2009-03-08 | N24: Ontario - ON02 | O24: 2027-01-01 | P24: =A22=I24 -> TRUE | Q24: 121661 | R24: Youth | S24: Clarke | T24: Kyla | U24: 2009-03-08 | V24: Ontario - ON02 | W24: 2027-01-01 | X24: =I24=Q24 -> TRUE
A25: 100784 | B25: Adult | C25: Coultes | D25: Alycia | E25: 2004-01-05 | F25: Ontario - ON02 | G25: 2029-01-01 | I25: 70553 | J25: Adult | K25: Cook | L25: Jayme | M25: 1984-07-27 | N25: Ontario - ON02 | O25: 2027-01-01 | P25: =A23=I25 -> TRUE | Q25: 70553 | R25: Adult | S25: Cook | T25: Jayme | U25: 1984-07-27 | V25: Ontario - ON02 | W25: 2027-01-01 | X25: =I25=Q25 -> TRUE
A26: 66204 | B26: Adult | C26: Craig | D26: Warren | E26: 1957-05-28 | F26: Ontario - ON02 | G26: 2029-01-01 | I26: 115290 | J26: Youth | K26: Cooper | L26: Gwen | M26: 2007-09-26 | N26: Ontario - ON02 | O26: 2027-01-01 | P26: =A24=I26 -> TRUE
A27: 106231 | B27: Youth | C27: Craig | D27: Zoey | E27: 2007-11-04 | F27: Ontario - ON02 | G27: 2027-01-01 | I27: 100784 | J27: Adult | K27: Coultes | L27: Alycia | M27: 2004-01-05 | N27: Ontario - ON02 | O27: 2029-01-01 | P27: =A25=I27 -> TRUE | Q27: 100784 | R27: Adult | S27: Coultes | T27: Alycia | U27: 2004-01-05 | V27: Ontario - ON02 | W27: 2029-01-01 | X27: =I27=Q27 -> TRUE
A28: 134384 | B28: Youth | C28: Culin | D28: Ellah | E28: 2011-01-13 | F28: Ontario - ON02 | G28: 2027-01-01 | I28: 66204 | J28: Adult | K28: Craig | L28: Warren | M28: 1957-05-28 | N28: Ontario - ON02 | O28: 2029-01-01 | P28: =A26=I28 -> TRUE | Q28: 66204 | R28: Adult | S28: Craig | T28: Warren | U28: 1957-05-28 | V28: Ontario - ON02 | W28: 2029-01-01 | X28: =I28=Q28 -> TRUE
A29: 126671 | B29: Youth | C29: Degagne | D29: Baye | E29: 2010-12-16 | F29: Ontario - ON02 | G29: 2027-01-01 | I29: 106231 | J29: Youth | K29: Craig | L29: Zoey | M29: 2007-11-04 | N29: Ontario - ON02 | O29: 2027-01-01 | P29: =A27=I29 -> TRUE | Q29: 106231 | R29: Youth | S29: Craig | T29: Zoey | U29: 2007-11-04 | V29: Ontario - ON02 | W29: 2027-01-01 | X29: =I29=Q29 -> TRUE
A30: 125915 | B30: Youth | C30: Den Hollander | D30: Layla | E30: 2011-06-05 | F30: Ontario - ON02 | G30: 2028-01-01 | I30: 126671 | J30: Youth | K30: Degagne | L30: Baye | M30: 2010-12-16 | N30: Ontario - ON02 | O30: 2027-01-01 | P30: =I30=A29 -> TRUE | Q30: 126671 | R30: Youth | S30: Degagne | T30: Baye | U30: 2010-12-16 | V30: Ontario - ON02 | W30: 2027-01-01 | X30: =I30=Q30 -> TRUE
A31: 125900 | B31: Adult | C31: Den Hollander | D31: Olivia | E31: 2006-10-16 | F31: Ontario - ON02 | G31: 2027-01-01 | I31: 125915 | J31: Youth | K31: Den Hollander | L31: Layla | M31: 2011-06-05 | N31: Ontario - ON02 | O31: 2028-01-01 | P31: =I31=A30 -> TRUE | Q31: 125915 | R31: Youth | S31: Den Hollander | T31: Layla | U31: 2011-06-05 | V31: Ontario - ON02 | W31: 2028-01-01 | X31: =I31=Q31 -> TRUE
A32: 116468 | B32: Youth | C32: Dobbins | D32: Isla | E32: 2009-07-24 | F32: Ontario - ON02 | G32: 2029-01-01 | I32: 125900 | J32: Adult | K32: Den Hollander | L32: Olivia | M32: 2006-10-16 | N32: Ontario - ON02 | O32: 2027-01-01 | P32: =I32=A31 -> TRUE | Q32: 125900 | R32: Adult | S32: Den Hollander | T32: Olivia | U32: 2006-10-16 | V32: Ontario - ON02 | W32: 2027-01-01 | X32: =I32=Q32 -> TRUE
A33: 103369 | B33: Adult | C33: Farrington | D33: Kaeleigh | E33: 2000-03-29 | F33: Ontario - ON02 | G33: 2027-01-01 | I33: 116468 | J33: Youth | K33: Dobbins | L33: Isla | M33: 2009-07-24 | N33: Ontario - ON02 | O33: 2029-01-01 | P33: =I33=A32 -> TRUE | Q33: 116468 | R33: Youth | S33: Dobbins | T33: Isla | U33: 2009-07-24 | V33: Ontario - ON02 | W33: 2029-01-01 | X33: =I33=Q33 -> TRUE
A34: 91632 | B34: Adult | C34: Fazackerley | D34: Janet | E34: 1963-07-01 | F34: Ontario - ON02 | G34: 2027-01-01 | I34: 100788 | J34: Adult | K34: Dufour | L34: Elizabeth | M34: 1996-11-08 | N34: Ontario - ON02 | O34: 2027-01-01 | P34: =I34=A33 -> FALSE | Q34: 100788 | R34: Adult | S34: Dufour | T34: Elizabeth | U34: 1996-11-08 | V34: Ontario - ON02 | W34: 2027-01-01 | X34: =I34=Q34 -> TRUE
A35: 67703 | B35: Adult | C35: Fisher | D35: Laurie | E35: 1960-09-21 | F35: Ontario - ON02 | G35: 2027-01-01 | I35: 103369 | J35: Adult | K35: Farrington | L35: Kaeleigh | M35: 2000-03-29 | N35: Ontario - ON02 | O35: 2027-01-01 | P35: =I35=A33 -> TRUE | Q35: 103369 | R35: Adult | S35: Farrington | T35: Kaeleigh | U35: 2000-03-29 | V35: Ontario - ON02 | W35: 2027-01-01 | X35: =I35=Q35 -> TRUE
A36: 134187 | B36: Youth | C36: Foulds | D36: Brooklyn | E36: 2017-12-26 | F36: Ontario - ON02 | G36: 2027-01-01 | I36: 91632 | J36: Adult | K36: Fazackerley | L36: Janet | M36: 1963-07-01 | N36: Ontario - ON02 | O36: 2027-01-01 | P36: =I36=A34 -> TRUE | Q36: 91632 | R36: Adult | S36: Fazackerley | T36: Janet | U36: 1963-07-01 | V36: Ontario - ON02 | W36: 2027-01-01 | X36: =I36=Q36 -> TRUE
A37: 134186 | B37: Youth | C37: Foulds | D37: Danica | E37: 2016-08-29 | F37: Ontario - ON02 | G37: 2027-01-01 | I37: 67703 | J37: Adult | K37: Fisher | L37: Laurie | M37: 1960-09-21 | N37: Ontario - ON02 | O37: 2027-01-01 | P37: =I37=A35 -> TRUE | Q37: 67703 | R37: Adult | S37: Fisher | T37: Laurie | U37: 1960-09-21 | V37: Ontario - ON02 | W37: 2027-01-01 | X37: =I37=Q37 -> TRUE
A38: 94821 | B38: Adult | C38: Fournier | D38: Emily | E38: 1997-12-16 | F38: Ontario - ON02 | G38: 2027-01-01 | I38: 134187 | J38: Youth | K38: Foulds | L38: Brooklyn | M38: 2017-12-26 | N38: Ontario - ON02 | O38: 2027-01-01 | P38: =I38=A36 -> TRUE | Q38: 134187 | R38: Youth | S38: Foulds | T38: Brooklyn | U38: 2017-12-26 | V38: Ontario - ON02 | W38: 2027-01-01 | X38: =I38=Q38 -> TRUE
A39: 134118 | B39: Youth | C39: Fraser | D39: Hope | E39: 2011-06-11 | F39: Ontario - ON02 | G39: 2027-01-01 | I39: 134186 | J39: Youth | K39: Foulds | L39: Danica | M39: 2016-08-29 | N39: Ontario - ON02 | O39: 2027-01-01 | P39: =I39=A37 -> TRUE | Q39: 134186 | R39: Youth | S39: Foulds | T39: Danica | U39: 2016-08-29 | V39: Ontario - ON02 | W39: 2027-01-01 | X39: =I39=Q39 -> TRUE
A40: 105142 | B40: Adult | C40: Gardiner | D40: Ashley | E40: 1991-05-24 | F40: Ontario - ON02 | G40: 2027-01-01 | I40: 94821 | J40: Adult | K40: Fournier | L40: Emily | M40: 1997-12-16 | N40: Ontario - ON02 | O40: 2027-01-01 | P40: =I40=A38 -> TRUE | Q40: 94821 | R40: Adult | S40: Fournier | T40: Emily | U40: 1997-12-16 | V40: Ontario - ON02 | W40: 2027-01-01 | X40: =I40=Q40 -> TRUE
A41: 70931 | B41: Adult | C41: Gowanlock | D41: Jessie | E41: 1985-10-28 | F41: Ontario - ON02 | G41: 2027-01-01 | I41: 134118 | J41: Youth | K41: Fraser | L41: Hope | M41: 2011-06-11 | N41: Ontario - ON02 | O41: 2027-01-01 | P41: =I41=A39 -> TRUE | Q41: 134118 | R41: Youth | S41: Fraser | T41: Hope | U41: 2011-06-11 | V41: Ontario - ON02 | W41: 2027-01-01 | X41: =I41=Q41 -> TRUE
A42: 109646 | B42: Youth | C42: Greenwood | D42: Hayden | E42: 2015-02-03 | F42: Ontario - ON02 | G42: 2027-01-01 | I42: 87713 | J42: Adult | K42: Gagnon | L42: Brigitte | M42: 1998-02-04 | N42: Ontario - ON02 | O42: 2027-01-01 | P42: =I42=A40 -> FALSE | Q42: 87713 | R42: Adult | S42: Gagnon | T42: Brigitte | U42: 1998-02-04 | V42: Ontario - ON02 | W42: 2027-01-01 | X42: =I42=Q42 -> TRUE
A43: 121385 | B43: Adult | C43: Gregson | D43: Amber | E43: 2006-09-03 | F43: Ontario - ON02 | G43: 2027-01-01 | I43: 91634 | J43: Adult | K43: Gagnon | L43: Marc | M43: 1960-12-22 | N43: Ontario - ON02 | O43: 2027-01-01 | P43: =I43=A41 -> FALSE | Q43: 91634 | R43: Adult | S43: Gagnon | T43: Marc | U43: 1960-12-22 | V43: Ontario - ON02 | W43: 2027-01-01 | X43: =I43=Q43 -> TRUE
A44: 103147 | B44: Adult | C44: Haid | D44: Eric | E44: 1989-05-31 | F44: Ontario - ON02 | G44: 2027-01-01 | I44: 105142 | J44: Adult | K44: Gardiner | L44: Ashley | M44: 1991-05-24 | N44: Ontario - ON02 | O44: 2027-01-01 | P44: =I44=A40 -> TRUE | Q44: 105142 | R44: Adult | S44: Gardiner | T44: Ashley | U44: 1991-05-24 | V44: Ontario - ON02 | W44: 2027-01-01 | X44: =I44=Q44 -> TRUE
A45: 103836 | B45: Adult | C45: Hammond | D45: Jesilyn | E45: 2005-02-26 | F45: Ontario - ON02 | G45: 2027-01-01 | I45: 70931 | J45: Adult | K45: Gowanlock | L45: Jessie | M45: 1985-10-28 | N45: Ontario - ON02 | O45: 2027-01-01 | P45: =I45=A41 -> TRUE | Q45: 70931 | R45: Adult | S45: Gowanlock | T45: Jessie | U45: 1985-10-28 | V45: Ontario - ON02 | W45: 2027-01-01 | X45: =I45=Q45 -> TRUE
A46: 103172 | B46: Adult | C46: Hazeleger | D46: Jenn | E46: 1990-04-28 | F46: Ontario - ON02 | G46: 2029-01-01 | I46: 109646 | J46: Youth | K46: Greenwood | L46: Hayden | M46: 2015-02-03 | N46: Ontario - ON02 | O46: 2027-01-01 | P46: =I46=A42 -> TRUE | Q46: 109646 | R46: Youth | S46: Greenwood | T46: Hayden | U46: 2015-02-03 | V46: Ontario - ON02 | W46: 2027-01-01 | X46: =I46=Q46 -> TRUE
A47: 131422 | B47: Youth | C47: Hazeleger | D47: Leah | E47: 2016-05-05 | F47: Ontario - ON02 | G47: 2028-01-01 | I47: 121385 | J47: Adult | K47: Gregson | L47: Amber | M47: 2006-09-03 | N47: Ontario - ON02 | O47: 2027-01-01 | P47: =I47=A43 -> TRUE | Q47: 121385 | R47: Adult | S47: Gregson | T47: Amber | U47: 2006-09-03 | V47: Ontario - ON02 | W47: 2027-01-01 | X47: =I47=Q47 -> TRUE
A48: 116476 | B48: Adult | C48: Hearne | D48: Elizabeth | E48: 1996-11-10 | F48: Ontario - ON02 | G48: 2029-01-01 | I48: 103147 | J48: Adult | K48: Haid | L48: Eric | M48: 1989-05-31 | N48: Ontario - ON02 | O48: 2027-01-01 | P48: =I48=A44 -> TRUE | Q48: 103147 | R48: Adult | S48: Haid | T48: Eric | U48: 1989-05-31 | V48: Ontario - ON02 | W48: 2027-01-01 | X48: =I48=Q48 -> TRUE
A49: 125484 | B49: Youth | C49: Holloway | D49: Piper | E49: 2011-06-18 | F49: Ontario - ON02 | G49: 2027-01-01 | I49: 103836 | J49: Adult | K49: Hammond | L49: Jesilyn | M49: 2005-02-26 | N49: Ontario - ON02 | O49: 2027-01-01 | P49: =I49=A45 -> TRUE | Q49: 103836 | R49: Adult | S49: Hammond | T49: Jesilyn | U49: 2005-02-26 | V49: Ontario - ON02 | W49: 2027-01-01 | X49: =I49=Q49 -> TRUE
A50: 134063 | B50: Adult | C50: Hook | D50: Jorja | E50: 2006-09-02 | F50: Ontario - ON02 | G50: 2027-01-01 | I50: 103172 | J50: Adult | K50: Hazeleger | L50: Jenn | M50: 1990-04-28 | N50: Ontario - ON02 | O50: 2029-01-01 | P50: =I50=A46 -> TRUE | Q50: 103172 | R50: Adult | S50: Hazeleger | T50: Jenn | U50: 1990-04-28 | V50: Ontario - ON02 | W50: 2029-01-01 | X50: =I50=Q50 -> TRUE
A51: 108471 | B51: Adult | C51: Hook | D51: Tamara | E51: 1980-03-23 | F51: Ontario - ON02 | G51: 2027-01-01 | I51: 131422 | J51: Youth | K51: Hazeleger | L51: Leah | M51: 2016-05-05 | N51: Ontario - ON02 | O51: 2028-01-01 | P51: =I51=A47 -> TRUE | Q51: 131422 | R51: Youth | S51: Hazeleger | T51: Leah | U51: 2016-05-05 | V51: Ontario - ON02 | W51: 2028-01-01 | X51: =I51=Q51 -> TRUE
A52: 98053 | B52: Adult | C52: Hopkins | D52: Herb | E52: 1969-07-15 | F52: Ontario - ON02 | G52: 2027-01-01 | I52: 116476 | J52: Adult | K52: Hearne | L52: Elizabeth | M52: 1996-11-10 | N52: Ontario - ON02 | O52: 2029-01-01 | P52: =I52=A48 -> TRUE | Q52: 116476 | R52: Adult | S52: Hearne | T52: Elizabeth | U52: 1996-11-10 | V52: Ontario - ON02 | W52: 2029-01-01 | X52: =I52=Q52 -> TRUE
A53: 103833 | B53: Adult | C53: Hutchings | D53: Jennifer | E53: 1999-01-16 | F53: Ontario - ON02 | G53: 2028-01-01 | I53: 125484 | J53: Youth | K53: Holloway | L53: Piper | M53: 2011-06-18 | N53: Ontario - ON02 | O53: 2027-01-01 | P53: =I53=A49 -> TRUE | Q53: 125484 | R53: Youth | S53: Holloway | T53: Piper | U53: 2011-06-18 | V53: Ontario - ON02 | W53: 2027-01-01 | X53: =I53=Q53 -> TRUE
A54: 63947 | B54: Adult | C54: Jackson | D54: Darlene | E54: 1957-03-25 | F54: Ontario - ON02 | G54: 2027-01-01 | I54: 134063 | J54: Adult | K54: Hook | L54: Jorja | M54: 2006-09-02 | N54: Ontario - ON02 | O54: 2027-01-01 | P54: =I54=A50 -> TRUE | Q54: 134063 | R54: Adult | S54: Hook | T54: Jorja | U54: 2006-09-02 | V54: Ontario - ON02 | W54: 2027-01-01 | X54: =I54=Q54 -> TRUE
A55: 115467 | B55: Youth | C55: Johnson | D55: Lindsay | E55: 2007-01-02 | F55: Ontario - ON02 | G55: 2027-01-01 | I55: 108471 | J55: Adult | K55: Hook | L55: Tamara | M55: 1980-03-23 | N55: Ontario - ON02 | O55: 2027-01-01 | P55: =I55=A51 -> TRUE | Q55: 108471 | R55: Adult | S55: Hook | T55: Tamara | U55: 1980-03-23 | V55: Ontario - ON02 | W55: 2027-01-01 | X55: =I55=Q55 -> TRUE
... A63: 116529 | B63: Youth | C63: MacIver | D63: Jase | E63: 2013-02-28 | F63: Ontario - ON02 | G63: 2027-01-01 | I63: 134758 | J63: Adult | K63: Lafleur | L63: Mireille | M63: 1976-07-13 | N63: Ontario - ON02 | O63: 2027-01-01 | P63: =I63=A59 -> FALSE | Q63: 134758 | R63: Adult | S63: Lafleur | T63: Mireille | U63: 1976-07-13 | V63: Ontario - ON02 | W63: 2027-01-01 | X63: =I63=Q63 -> TRUE
A64: 131763 | B64: Adult | C64: Marshall | D64: Brody | E64: 1990-10-16 | F64: Ontario - ON02 | G64: 2028-01-01 | I64: 104905 | J64: Youth | K64: Lafreniere | L64: Kya | M64: 2008-09-06 | N64: Ontario - ON02 | O64: 2027-01-01 | P64: =I64=A58 -> TRUE | Q64: 104905 | R64: Youth | S64: Lafreniere | T64: Kya | U64: 2008-09-06 | V64: Ontario - ON02 | W64: 2027-01-01 | X64: =I64=Q64 -> TRUE
A65: 98578 | B65: Adult | C65: McCullough | D65: Sarah | E65: 1991-05-01 | F65: Ontario - ON02 | G65: 2027-01-01 | I65: 100815 | J65: Adult | K65: Leitch | L65: Krystal | M65: 1982-10-15 | N65: Ontario - ON02 | O65: 2027-01-01 | P65: =I65=A59 -> TRUE | Q65: 100815 | R65: Adult | S65: Leitch | T65: Krystal | U65: 1982-10-15 | V65: Ontario - ON02 | W65: 2027-01-01 | X65: =I65=Q65 -> TRUE
A66: 125029 | B66: Adult | C66: McDonald | D66: Jordan | E66: 1999-03-31 | F66: Ontario - ON02 | G66: 2027-01-01 | I66: 112078 | J66: Youth | K66: Leitch | L66: Safiyyah | M66: 2012-05-26 | N66: Ontario - ON02 | O66: 2027-01-01 | P66: =I66=A60 -> TRUE | Q66: 112078 | R66: Youth | S66: Leitch | T66: Safiyyah | U66: 2012-05-26 | V66: Ontario - ON02 | W66: 2027-01-01 | X66: =I66=Q66 -> TRUE
A67: 127992 | B67: Youth | C67: Miller | D67: Natalie | E67: 2011-02-04 | F67: Ontario - ON02 | G67: 2027-01-01 | I67: 119825 | J67: Adult | K67: Lloyd | L67: Brandi | M67: 1975-12-29 | N67: Ontario - ON02 | O67: 2027-01-01 | P67: =I67=A61 -> TRUE | Q67: 119825 | R67: Adult | S67: Lloyd | T67: Brandi | U67: 1975-12-29 | V67: Ontario - ON02 | W67: 2027-01-01 | X67: =I67=Q67 -> TRUE
A68: 103367 | B68: Youth | C68: Moore | D68: Mack | E68: 2006-04-08 | F68: Ontario - ON02 | G68: 2027-01-01 | I68: 65287 | J68: Adult | K68: Maciver | L68: Denise | M68: 1980-07-22 | N68: Ontario - ON02 | O68: 2027-01-01 | P68: =I68=A62 -> TRUE | Q68: 92506 | R68: Adult | S68: Lodwick | T68: Gracie | U68: 2001-11-27 | V68: Ontario - ON02 | W68: 2027-01-01 | X68: =I68=Q68 -> FALSE
A69: 103366 | B69: Adult | C69: Moore | D69: Sarah | E69: 1973-02-27 | F69: Ontario - ON02 | G69: 2027-01-01 | I69: 116529 | J69: Youth | K69: MacIver | L69: Jase | M69: 2013-02-28 | N69: Ontario - ON02 | O69: 2027-01-01 | P69: =I69=A63 -> TRUE | Q69: 65287 | R69: Adult | S69: Maciver | T69: Denise | U69: 1980-07-22 | V69: Ontario - ON02 | W69: 2027-01-01 | X69: =I68=Q69 -> TRUE
A70: 134416 | B70: Youth | C70: Morrison | D70: Jazmin | E70: 2008-11-26 | F70: Ontario - ON02 | G70: 2027-01-01 | I70: 131763 | J70: Adult | K70: Marshall | L70: Brody | M70: 1990-10-16 | N70: Ontario - ON02 | O70: 2028-01-01 | P70: =I70=A64 -> TRUE | Q70: 116529 | R70: Youth | S70: MacIver | T70: Jase | U70: 2013-02-28 | V70: Ontario - ON02 | W70: 2027-01-01 | X70: =I69=Q70 -> TRUE
A71: 134003 | B71: Youth | C71: Morrison | D71: Peyton | E71: 2012-03-20 | F71: Ontario - ON02 | G71: 2027-01-01 | I71: 98578 | J71: Adult | K71: McCullough | L71: Sarah | M71: 1991-05-01 | N71: Ontario - ON02 | O71: 2027-01-01 | P71: =I71=A65 -> TRUE | Q71: 131763 | R71: Adult | S71: Marshall | T71: Brody | U71: 1990-10-16 | V71: Ontario - ON02 | W71: 2028-01-01 | X71: =I70=Q71 -> TRUE
A72: 87711 | B72: Adult | C72: Murdoch | D72: Mackenzie | E72: 1997-01-27 | F72: Ontario - ON02 | G72: 2027-01-01 | I72: 125029 | J72: Adult | K72: McDonald | L72: Jordan | M72: 1999-03-31 | N72: Ontario - ON02 | O72: 2027-01-01 | P72: =I72=A66 -> TRUE | Q72: 98578 | R72: Adult | S72: McCullough | T72: Sarah | U72: 1991-05-01 | V72: Ontario - ON02 | W72: 2027-01-01 | X72: =I71=Q72 -> TRUE
A73: 130145 | B73: Adult | C73: Murray | D73: Jennifer | E73: 1993-02-19 | F73: Ontario - ON02 | G73: 2027-01-01 | I73: 134479 | J73: Youth | K73: McEachern | L73: Elyssa | M73: 2011-07-28 | N73: Ontario - ON02 | O73: 2027-01-01 | P73: =I73=A67 -> FALSE | Q73: 125029 | R73: Adult | S73: McDonald | T73: Jordan | U73: 1999-03-31 | V73: Ontario - ON02 | W73: 2027-01-01 | X73: =I72=Q73 -> TRUE
A74: 127005 | B74: Youth | C74: Nadalin | D74: Scarlett | E74: 2015-06-06 | F74: Ontario - ON02 | G74: 2027-01-01 | I74: 127992 | J74: Youth | K74: Miller | L74: Natalie | M74: 2011-02-04 | N74: Ontario - ON02 | O74: 2027-01-01 | P74: =I74=A67 -> TRUE | Q74: 134479 | R74: Youth | S74: McEachern | T74: Elyssa | U74: 2011-07-28 | V74: Ontario - ON02 | W74: 2027-01-01 | X74: =I73=Q74 -> TRUE
A75: 64038 | B75: Adult | C75: Nadalin | D75: Tessa | E75: 1984-01-31 | F75: Ontario - ON02 | G75: 2027-01-01 | I75: 103367 | J75: Youth | K75: Moore | L75: Mack | M75: 2006-04-08 | N75: Ontario - ON02 | O75: 2027-01-01 | P75: =I75=A68 -> TRUE | Q75: 127992 | R75: Youth | S75: Miller | T75: Natalie | U75: 2011-02-04 | V75: Ontario - ON02 | W75: 2027-01-01 | X75: =I74=Q75 -> TRUE
A76: 121604 | B76: Youth | C76: Nadalin | D76: William | E76: 2013-09-12 | F76: Ontario - ON02 | G76: 2027-01-01 | I76: 103366 | J76: Adult | K76: Moore | L76: Sarah | M76: 1973-02-27 | N76: Ontario - ON02 | O76: 2027-01-01 | P76: =I76=A69 -> TRUE | Q76: 103367 | R76: Youth | S76: Moore | T76: Mack | U76: 2006-04-08 | V76: Ontario - ON02 | W76: 2027-01-01 | X76: =I75=Q76 -> TRUE
A77: 66928 | B77: Adult | C77: Osborne | D77: Dayle | E77: 1986-07-14 | F77: Ontario - ON02 | G77: 2027-01-01 | I77: 134416 | J77: Youth | K77: Morrison | L77: Jazmin | M77: 2008-11-26 | N77: Ontario - ON02 | O77: 2027-01-01 | P77: =I77=A70 -> TRUE | Q77: 103366 | R77: Adult | S77: Moore | T77: Sarah | U77: 1973-02-27 | V77: Ontario - ON02 | W77: 2027-01-01 | X77: =I76=Q77 -> TRUE
A78: 66915 | B78: Adult | C78: Pattison | D78: Glenn | E78: 1958-10-07 | F78: Ontario - ON02 | G78: 2027-01-01 | I78: 134003 | J78: Youth | K78: Morrison | L78: Peyton | M78: 2012-03-20 | N78: Ontario - ON02 | O78: 2027-01-01 | P78: =I78=A71 -> TRUE | Q78: 134416 | R78: Youth | S78: Morrison | T78: Jazmin | U78: 2008-11-26 | V78: Ontario - ON02 | W78: 2027-01-01 | X78: =I77=Q78 -> TRUE
A79: 129443 | B79: Adult | C79: Peirce | D79: Jen | E79: 1975-05-20 | F79: Ontario - ON02 | G79: 2027-01-01 | I79: 87711 | J79: Adult | K79: Murdoch | L79: Mackenzie | M79: 1997-01-27 | N79: Ontario - ON02 | O79: 2027-01-01 | P79: =I79=A72 -> TRUE | Q79: 134003 | R79: Youth | S79: Morrison | T79: Peyton | U79: 2012-03-20 | V79: Ontario - ON02 | W79: 2027-01-01 | X79: =I78=Q79 -> TRUE
A80: 129439 | B80: Youth | C80: Peirce | D80: Paige | E80: 2010-05-03 | F80: Ontario - ON02 | G80: 2027-01-01 | I80: 130145 | J80: Adult | K80: Murray | L80: Jennifer | M80: 1993-02-19 | N80: Ontario - ON02 | O80: 2027-01-01 | P80: =I80=A73 -> TRUE | Q80: 87711 | R80: Adult | S80: Murdoch | T80: Mackenzie | U80: 1997-01-27 | V80: Ontario - ON02 | W80: 2027-01-01 | X80: =I79=Q80 -> TRUE
A81: 134097 | B81: Youth | C81: Phoenix | D81: Brittney | E81: 2010-08-18 | F81: Ontario - ON02 | G81: 2027-01-01 | I81: 127005 | J81: Youth | K81: Nadalin | L81: Scarlett | M81: 2015-06-06 | N81: Ontario - ON02 | O81: 2027-01-01 | P81: =I81=A74 -> TRUE | Q81: 130145 | R81: Adult | S81: Murray | T81: Jennifer | U81: 1993-02-19 | V81: Ontario - ON02 | W81: 2027-01-01 | X81: =I80=Q81 -> TRUE
A82: 130384 | B82: Youth | C82: Polisena | D82: Elli | E82: 2008-10-11 | F82: Ontario - ON02 | G82: 2027-01-01 | I82: 64038 | J82: Adult | K82: Nadalin | L82: Tessa | M82: 1984-01-31 | N82: Ontario - ON02 | O82: 2027-01-01 | P82: =I82=A75 -> TRUE | Q82: 127005 | R82: Youth | S82: Nadalin | T82: Scarlett | U82: 2015-06-06 | V82: Ontario - ON02 | W82: 2027-01-01 | X82: =I81=Q82 -> TRUE
A83: 84347 | B83: Adult | C83: Pople | D83: Heather | E83: 1989-12-10 | F83: Ontario - ON02 | G83: 2027-01-01 | I83: 121604 | J83: Youth | K83: Nadalin | L83: William | M83: 2013-09-12 | N83: Ontario - ON02 | O83: 2027-01-01 | P83: =I83=A76 -> TRUE | Q83: 64038 | R83: Adult | S83: Nadalin | T83: Tessa | U83: 1984-01-31 | V83: Ontario - ON02 | W83: 2027-01-01 | X83: =I82=Q83 -> TRUE
A84: 66921 | B84: Adult | C84: Pridham | D84: Jessica | E84: 1992-01-12 | F84: Ontario - ON02 | G84: 2027-01-01 | I84: 66928 | J84: Adult | K84: Osborne | L84: Dayle | M84: 1986-07-14 | N84: Ontario - ON02 | O84: 2027-01-01 | P84: =I84=A77 -> TRUE | Q84: 121604 | R84: Youth | S84: Nadalin | T84: William | U84: 2013-09-12 | V84: Ontario - ON02 | W84: 2027-01-01 | X84: =I83=Q84 -> TRUE
A85: 116546 | B85: Adult | C85: Rennie | D85: Emma | E85: 2006-04-15 | F85: Ontario - ON02 | G85: 2027-01-01 | I85: 66915 | J85: Adult | K85: Pattison | L85: Glenn | M85: 1958-10-07 | N85: Ontario - ON02 | O85: 2027-01-01 | P85: =I85=A78 -> TRUE | Q85: 66928 | R85: Adult | S85: Osborne | T85: Dayle | U85: 1986-07-14 | V85: Ontario - ON02 | W85: 2027-01-01 | X85: =I84=Q85 -> TRUE
... A113: 65792 | B113: Adult | C113: Williamson | D113: Robin | E113: 1963-07-07 | F113: Ontario - ON02 | G113: 2027-01-01 | I113: 117014 | J113: Adult | K113: Thomson | L113: Stacey | M113: 1992-06-04 | N113: Ontario - ON02 | O113: 2029-01-01 | P113: =I113=A106 -> FALSE | Q113: 135283 | R113: Youth | S113: Thomas | T113: Avery | U113: 2009-12-10 | V113: Ontario - ON02 | W113: 2027-01-01 | X113: =I112=Q113 -> FALSE
A114: 134085 | B114: Youth | C114: Willis | D114: Jordanna | E114: 2008-09-30 | F114: Ontario - ON02 | G114: 2027-01-01 | I114: 126748 | J114: Adult | K114: Vonda | L114: Betsy | M114: 1989-02-20 | N114: Ontario - ON02 | O114: 2028-01-01 | P114: =I114=A106 -> TRUE | Q114: 74586 | R114: Adult | S114: Thomson | T114: Jordan | U114: 1992-04-27 | V114: Ontario - ON02 | W114: 2027-01-01 | X114: =I112=Q114 -> TRUE
A115: 63222 | B115: Adult | C115: Wilson | D115: James | E115: 1989-10-03 | F115: Ontario - ON02 | G115: 2027-01-01 | I115: 63241 | J115: Adult | K115: Vonda | L115: Blake | M115: 1985-02-01 | N115: Ontario - ON02 | O115: 2027-01-01 | P115: =I115=A107 -> FALSE | Q115: 117014 | R115: Adult | S115: Thomson | T115: Stacey | U115: 1992-06-04 | V115: Ontario - ON02 | W115: 2029-01-01 | X115: =I113=Q115 -> TRUE
A116: 121379 | B116: Adult | C116: Woodcock | D116: Emma | E116: 2008-06-12 | F116: Ontario - ON02 | G116: 2027-01-01 | I116: 111803 | J116: Adult | K116: Vyse | L116: Madyson | M116: 2006-06-11 | N116: Ontario - ON02 | O116: 2027-01-01 | P116: =A107=I116 -> TRUE | Q116: 126748 | R116: Adult | S116: Vonda | T116: Betsy | U116: 1989-02-20 | V116: Ontario - ON02 | W116: 2028-01-01 | X116: =I114=Q116 -> TRUE
A117: 130244 | B117: Adult | C117: Woodland | D117: Saige | E117: 2004-01-21 | F117: Ontario - ON02 | G117: 2027-01-01 | I117: 112693 | J117: Adult | K117: Wagg | L117: Kaitlyn | M117: 2005-01-07 | N117: Ontario - ON02 | O117: 2027-01-01 | P117: =A108=I117 -> TRUE | Q117: 63241 | R117: Adult | S117: Vonda | T117: Blake | U117: 1985-02-01 | V117: Ontario - ON02 | W117: 2027-01-01 | X117: =I115=Q117 -> TRUE
A118: 134451 | B118: Youth | C118: Wyville | D118: Clara | E118: 2012-04-19 | F118: Ontario - ON02 | G118: 2029-01-01 | I118: 129493 | J118: Youth | K118: Walker | L118: Sierra | M118: 2011-08-12 | N118: Ontario - ON02 | O118: 2027-01-01 | P118: =A109=I118 -> TRUE | Q118: 111803 | R118: Adult | S118: Vyse | T118: Madyson | U118: 2006-06-11 | V118: Ontario - ON02 | W118: 2027-01-01 | X118: =I116=Q118 -> TRUE
I119: 127681 | J119: Adult | K119: Wells | L119: Patsy | M119: 1976-03-31 | N119: Ontario - ON02 | O119: 2029-01-01 | P119: =A110=I119 -> FALSE | Q119: 112693 | R119: Adult | S119: Wagg | T119: Kaitlyn | U119: 2005-01-07 | V119: Ontario - ON02 | W119: 2027-01-01 | X119: =I117=Q119 -> TRUE
I120: 108815 | J120: Adult | K120: West | L120: Caroline | M120: 1966-02-09 | N120: Ontario - ON02 | O120: 2029-01-01 | P120: =I120=A110 -> TRUE | Q120: 129493 | R120: Youth | S120: Walker | T120: Sierra | U120: 2011-08-12 | V120: Ontario - ON02 | W120: 2027-01-01 | X120: =I118=Q120 -> TRUE
I121: 133311 | J121: Adult | K121: Whiteman | L121: Maeve | M121: 2005-10-28 | N121: Ontario - ON02 | O121: 2027-01-01 | P121: =I121=A111 -> TRUE | Q121: 127681 | R121: Adult | S121: Wells | T121: Patsy | U121: 1976-03-31 | V121: Ontario - ON02 | W121: 2029-01-01 | X121: =I119=Q121 -> TRUE
I122: 98049 | J122: Adult | K122: Wiles | L122: Irene | M122: 1974-09-02 | N122: Ontario - ON02 | O122: 2027-01-01 | P122: =I122=A112 -> TRUE | Q122: 108815 | R122: Adult | S122: West | T122: Caroline | U122: 1966-02-09 | V122: Ontario - ON02 | W122: 2029-01-01 | X122: =I120=Q122 -> TRUE
I123: 65792 | J123: Adult | K123: Williamson | L123: Robin | M123: 1963-07-07 | N123: Ontario - ON02 | O123: 2027-01-01 | P123: =I123=A113 -> TRUE | Q123: 133311 | R123: Adult | S123: Whiteman | T123: Maeve | U123: 2005-10-28 | V123: Ontario - ON02 | W123: 2027-01-01 | X123: =I121=Q123 -> TRUE
I124: 134085 | J124: Youth | K124: Willis | L124: Jordanna | M124: 2008-09-30 | N124: Ontario - ON02 | O124: 2027-01-01 | P124: =I124=A114 -> TRUE | Q124: 98049 | R124: Adult | S124: Wiles | T124: Irene | U124: 1974-09-02 | V124: Ontario - ON02 | W124: 2027-01-01 | X124: =I122=Q124 -> TRUE
I125: 63222 | J125: Adult | K125: Wilson | L125: James | M125: 1989-10-03 | N125: Ontario - ON02 | O125: 2027-01-01 | P125: =I125=A115 -> TRUE | Q125: 65792 | R125: Adult | S125: Williamson | T125: Robin | U125: 1963-07-07 | V125: Ontario - ON02 | W125: 2027-01-01 | X125: =I123=Q125 -> TRUE
I126: 121379 | J126: Adult | K126: Woodcock | L126: Emma | M126: 2008-06-12 | N126: Ontario - ON02 | O126: 2027-01-01 | P126: =I126=A116 -> TRUE | Q126: 134085 | R126: Youth | S126: Willis | T126: Jordanna | U126: 2008-09-30 | V126: Ontario - ON02 | W126: 2027-01-01 | X126: =I124=Q126 -> TRUE
I127: 130244 | J127: Adult | K127: Woodland | L127: Saige | M127: 2004-01-21 | N127: Ontario - ON02 | O127: 2027-01-01 | P127: =I127=A117 -> TRUE | Q127: 63222 | R127: Adult | S127: Wilson | T127: James | U127: 1989-10-03 | V127: Ontario - ON02 | W127: 2027-01-01 | X127: =I125=Q127 -> TRUE
I128: 134451 | J128: Youth | K128: Wyville | L128: Clara | M128: 2012-04-19 | N128: Ontario - ON02 | O128: 2029-01-01 | P128: =I128=A118 -> TRUE | Q128: 121379 | R128: Adult | S128: Woodcock | T128: Emma | U128: 2008-06-12 | V128: Ontario - ON02 | W128: 2027-01-01 | X128: =I126=Q128 -> TRUE
Q129: 130244 | R129: Adult | S129: Woodland | T129: Saige | U129: 2004-01-21 | V129: Ontario - ON02 | W129: 2027-01-01 | X129: =I127=Q129 -> TRUE
Q130: 134451 | R130: Youth | S130: Wyville | T130: Clara | U130: 2012-04-19 | V130: Ontario - ON02 | W130: 2029-01-01 | X130: =I128=Q130 -> TRUE

Sheet NBHA Guidelines

Sheet Teen
A1: NBHA District 2 - 4D Teen Rider Name | B1: Spring Thaw Saturday | C1: Spring Thaw Sunday | D1: May TnB | E1: Southern Gnome - Sat | F1: Southern Gnome - Sun | G1: June TnB | H1: Crane Classic | I1: Crane Classic | J1: CDA Day Sat | K1: CDA Dau Sun | L1: TCF Friday | M1: TCF Sunday | N1: Finals Friday | O1: Finals Sat | P1: TOTAL
A2: 1D
P3: =SUM(B3:O3) -> 0
P4: =SUM(B4:O4) -> 0
P5: =SUM(B5:O5) -> 0
P6: =SUM(B6:O6) -> 0
P7: =SUM(B7:O7) -> 0
P8: =SUM(B8:O8) -> 0
P9: =SUM(B9:O9) -> 0
P10: =SUM(B10:O10) -> 0
P11: =SUM(B11:O11) -> 0
P12: =SUM(B12:O12) -> 0
P13: =SUM(B13:O13) -> 0
P14: =SUM(B14:O14) -> 0
... P24: =SUM(B24:O24) -> 0
A25: 2D
P26: =SUM(B26:O26) -> 0
P27: =SUM(B27:O27) -> 0
P28: =SUM(B28:O28) -> 0
P29: =SUM(B29:O29) -> 0
P30: =SUM(B30:O30) -> 0
P31: =SUM(B31:O31) -> 0
P32: =SUM(B32:O32) -> 0
P33: =SUM(B33:O33) -> 0
P34: =SUM(B34:O34) -> 0
P35: =SUM(B35:O35) -> 0
P36: =SUM(B36:O36) -> 0
P37: =SUM(B37:O37) -> 0
... P58: =SUM(B58:O58) -> 0
A59: 3D
P60: =SUM(B60:O60) -> 0
P61: =SUM(B61:O61) -> 0
P62: =SUM(B62:O62) -> 0
P63: =SUM(B63:O63) -> 0
P64: =SUM(B64:O64) -> 0
P65: =SUM(B65:O65) -> 0
P66: =SUM(B66:O66) -> 0
P67: =SUM(B67:O67) -> 0
P68: =SUM(B68:O68) -> 0
P69: =SUM(B69:O69) -> 0
P70: =SUM(B70:O70) -> 0
P71: =SUM(B71:O71) -> 0
... P75: =SUM(B75:O75) -> 0
A76: 4D
P77: =SUM(B77:O77) -> 0
P78: =SUM(B78:O78) -> 0
P79: =SUM(B79:O79) -> 0
P80: =SUM(B80:O80) -> 0
P81: =SUM(B81:O81) -> 0
P82: =SUM(B82:O82) -> 0
P83: =SUM(B83:O83) -> 0
P84: =SUM(B84:O84) -> 0
P85: =SUM(B85:O85) -> 0
P86: =SUM(B86:O86) -> 0
P87: =SUM(B87:O87) -> 0
P88: =SUM(B88:O88) -> 0
... P100: =SUM(B100:O100) -> 0

Sheet Youth
A1: NBHA District 2 - 4D Youth Rider Name | B1: Spring Thaw Saturday | C1: Spring Thaw Sunday | D1: Shining Star | E1: Southern Gnome - Sat | F1: Southern Gnome - Sun | G1: June TnB | H1: CDA Day sAT | I1: CDA Day SUN | J1: Charlie Hill | K1: Crane Sat | L1: Crane Sun | M1: TCF Saturday | N1: TCF Sunday | O1: Paint it Purple Sat | P1: Paint it Purple Sun | Q1: Paris | R1: Paris | S1: Shing Star | T1: Finals Friday | U1: Finals Sat | V1: TOTAL | W1: World qualifier
A2: 1D
A3: Hayden Greenwood | B3: 5 | V3: =SUM(B3:U3) -> 5
V4: =SUM(B4:U4) -> 0
V5: =SUM(B5:U5) -> 0
V6: =SUM(B6:U6) -> 0
V7: =SUM(B7:U7) -> 0
A8: 2D
V9: =SUM(B9:U9) -> 0
A10: 3D
V11: =SUM(B11:U11) -> 0
V12: =SUM(B12:U12) -> 0
V13: =SUM(B13:U13) -> 0
A14: 4D
A15: Leah Hazeleger | B15: 5
A16: Brooklyn Foulds | B16: 4
A17: Danica Foulds | B17: 3
A18: Addison Fletcher | B18: 2 | V18: =SUM(B18:U18) -> 2
A19: Morgan Fletcher | B19: 1 | V19: =SUM(B19:U19) -> 1
A20: 5D
V21: =SUM(B21:U21) -> 0
V22: =SUM(B22:U22) -> 0
V23: =SUM(B23:U23) -> 0
V24: =SUM(B24:U24) -> 0
V25: =SUM(B25:U25) -> 0

Sheet Senior for Worlds
A1: NBHA District 2 - 4D Senior for Worlds Rider Name | B1: Spring Thaw Saturday | C1: Spring Thaw Sunday | D1: TnB May | E1: Southern Gnome - Sat | F1: Southern Gnome - Sun | G1: June TnB | H1: Crane Classic | I1: Crane Classic | J1: CDA Day SAT | K1: CDA Day SUN | L1: TCF Friday | M1: TCF Sunday | N1: Finals Friday | O1: Finals Sat | P1: TOTAL | Q1: Invitational | R1: World qualifier
A2: 1D
P3: =SUM(B3:O3) -> 0
P4: =SUM(B4:O4) -> 0
P5: =SUM(B5:O5) -> 0
P6: =SUM(B6:O6) -> 0
P7: =SUM(B7:O7) -> 0
P8: =SUM(B8:O8) -> 0
P9: =SUM(B9:O9) -> 0
P10: =SUM(B10:O10) -> 0
P11: =SUM(B11:O11) -> 0
P12: =SUM(B12:O12) -> 0
P13: =SUM(B13:O13) -> 0
P14: =SUM(B14:O14) -> 0
... P21: =SUM(B21:O21) -> 0
A22: 2D
P23: =SUM(B23:O23) -> 0
P24: =SUM(B24:O24) -> 0
P25: =SUM(B25:O25) -> 0
P26: =SUM(B26:O26) -> 0
P27: =SUM(B27:O27) -> 0
P28: =SUM(B28:O28) -> 0
P29: =SUM(B29:O29) -> 0
P30: =SUM(B30:O30) -> 0
P31: =SUM(B31:O31) -> 0
P32: =SUM(B32:O32) -> 0
P33: =SUM(B33:O33) -> 0
P34: =SUM(B34:O34) -> 0
... P48: =SUM(B48:O48) -> 0
A49: 3D
P50: =SUM(B50:O50) -> 0
P51: =SUM(B51:O51) -> 0
P52: =SUM(B52:O52) -> 0
P53: =SUM(B53:O53) -> 0
P54: =SUM(B54:O54) -> 0
P55: =SUM(B55:O55) -> 0
P56: =SUM(B56:O56) -> 0
P57: =SUM(B57:O57) -> 0
P58: =SUM(B58:O58) -> 0
P59: =SUM(B59:O59) -> 0
P60: =SUM(B60:O60) -> 0
P61: =SUM(B61:O61) -> 0
... P78: =SUM(B78:O78) -> 0
A79: 4D
P80: =SUM(B80:O80) -> 0
P81: =SUM(B81:O81) -> 0
P82: =SUM(B82:O82) -> 0
