Workbook

Sheet Open 4D
A1: NBHA District 2 4D Open Rider Name | B1: Spring Thaw Saturday | C1: Spring Thaw Sunday | D1: Shining Star - May 31 | E1: Southern Gnome - Sat | F1: Southern Gnome - Sun | G1: CDA Day SAT | H1: CDA Day SUN | I1: Crane Classic- Sat | J1: Crane Classic - Sun | K1: TCF Saturday | L1: Paint it Purple Sat | M1: Paint it Purple Sun | N1: Paris - Sat | O1: Paris - Sun | P1: Shining Star | Q1: Finals Friday | R1: TOTAL | S1: Invitational | T1: Awards
A2: 1D | L2: .
A3: Glenn Pattison | C3: 3 | I3: 5 | J3: 4 | K3: 3 | L3: 4 | N3: 5 | O3: 4 | R3: =SUM(B3:Q3) -> 28
A4: Aspenn Richards | B4: 5 | G4: 3 | I4: 4 | K4: 2 | L4: 3 | M4: 1 | N4: 4 | O4: 1 | R4: =SUM(B4:Q4) -> 23
A5: Nicole Bater | B5: 1 | C5: 2 | E5: 3 | L5: 1 | M5: 4 | O5: 3 | P5: 5 | R5: =SUM(B5:Q5) -> 19
A6: Dayle Osborne | E6: 5 | F6: 1 | J6: 5 | O6: 5 | R6: =SUM(B6:Q6) -> 16
A7: Ashley Gardiner | H7: 2 | I7: 1 | J7: 2 | L7: 5 | M7: 5 | R7: =SUM(B7:Q7) -> 15
A8: Jennifer Hazeleger | B8: 3 | C8: 5 | G8: 5 | R8: =SUM(B8:Q8) -> 13
A9: Heather Pople | D9: 4 | I9: 2 | O9: 2 | P9: 4 | R9: =SUM(B9:Q9) -> 12
A10: Tessa Nadalin | H10: 5 | K10: 5 | R10: =SUM(B10:Q10) -> 10
A11: Stacey Thomson | B11: 4 | D11: 5 | R11: =SUM(B11:Q11) -> 9
A12: Saige Woodland | D12: 2 | E12: 2 | N12: 3 | P12: 2 | R12: =SUM(B12:Q12) -> 9
A13: Sage Aulthouse | E13: 4 | F13: 4 | R13: =SUM(B13:Q13) -> 8
A14: Karen Briscoe | C14: 4 | K14: 4 | R14: =SUM(B14:Q14) -> 8
A15: Blake Vonda | F15: 5 | R15: =SUM(B15:Q15) -> 5
A16: Mack Moore | E16: 1 | F16: 3 | R16: =SUM(B16:Q16) -> 4
A17: Denise MacIver | G17: 4 | R17: =SUM(B17:Q17) -> 4
A18: Alycia Coultes | H18: 4 | R18: =SUM(B18:Q18) -> 4
A19: Tia Broughton | B19: 2 | L19: 2 | R19: =SUM(B19:Q19) -> 4
A20: Jayme Cook | D20: 3 | R20: =SUM(B20:Q20) -> 3
A21: Charlie Blanchet | H21: 3 | R21: =SUM(B21:Q21) -> 3
A22: Hayden Greenwood | G22: 2 | J22: 1 | R22: =SUM(B22:Q22) -> 3
A23: Brody Marshall | J23: 3 | R23: =SUM(B23:Q23) -> 3
A24: Bryelle Brunet | I24: 3 | R24: =SUM(B24:Q24) -> 3
A25: Ainsley Kosh | M25: 3 | R25: =SUM(B25:Q25) -> 3
A26: Sienna Sovereign | P26: 3 | R26: =SUM(B26:Q26) -> 3
A27: Patsy Wells | D27: 1 | G27: 1 | R27: =SUM(B27:Q27) -> 2
A28: Rachel Cameron | F28: 2 | R28: =SUM(B28:Q28) -> 2
A29: Amber Gregson | M29: 2 | R29: =SUM(B29:Q29) -> 2
A30: Mackenzie Murdoch | H30: 1 | R30: =SUM(B30:Q30) -> 1
R31: =SUM(B31:Q31) -> 0
R32: =SUM(B32:Q32) -> 0
R33: =SUM(B33:Q33) -> 0
R34: =SUM(B34:Q34) -> 0
R35: =SUM(B35:Q35) -> 0
R36: =SUM(B36:Q36) -> 0
R37: =SUM(B37:Q37) -> 0
R38: =SUM(B38:Q38) -> 0
R39: =SUM(B39:Q39) -> 0
R40: =SUM(B40:Q40) -> 0
...

Sheet All Youth
A1: NBHA District 2 4D All Youth Rider Name | B1: Spring Thaw Saturday | C1: Spring Thaw Sunday | D1: Shining Star | E1: Southern Gnome - Sat | F1: Southern Gnome - Sun | G1: CDA Day sat | H1: CDA Day SUN | I1: ='Open 4D'!I1 -> Crane Classic- Sat | J1: ='Open 4D'!J1 -> Crane Classic - Sun | K1: TCF Saturday | L1: Paint it Purple Sat | M1: Paint it Purple Sun | N1: Paris - Sat | O1: Paris - Sun | P1: Shining Star | Q1: Finals Friday | R1: TOTAL | S1: Invitational | T1: Awards
A2: 1D | L2: .
A3: Hayden Greenwood | B3: 5 | C3: 5 | F3: 4 | H3: 4 | I3: 5 | J3: 5 | K3: 4 | L3: 4 | N3: 5 | R3: =SUM(B3:Q3) -> 41
A4: Olivia Barger | D4: 3 | E4: 2 | L4: 5 | M4: 4 | N4: 3 | O4: 5 | P4: 5 | R4: =SUM(B4:Q4) -> 27
A5: William Nadalin | G5: 5 | I5: 3 | K5: 3 | N5: 4 | O5: 3 | R5: =SUM(B5:Q5) -> 18
A6: Rachel Cameron | F6: 5 | I6: 4 | K6: 5 | R6: =SUM(B6:Q6) -> 14
A7: Elli Polisena | E7: 4 | I7: 2 | K7: 2 | O7: 2 | R7: =SUM(B7:Q7) -> 10
A8: Lindsay Johnston | B8: 4 | C8: 4 | R8: =SUM(B8:Q8) -> 8
A9: Kya Lafreniere | L9: 2 | N9: 2 | O9: 4 | R9: =SUM(B9:Q9) -> 8
A10: Saffiyah Leitch | D10: 5 | R10: =SUM(B10:Q10) -> 5
A11: Maddie McInerney | D11: 4 | K11: 1 | R11: =SUM(B11:Q11) -> 5
A12: Peyton Morrison | E12: 5 | R12: =SUM(B12:Q12) -> 5
A13: Charlie Blanchet | H13: 5 | R13: =SUM(B13:Q13) -> 5
A14: Avery Thomas | M14: 5 | R14: =SUM(B14:Q14) -> 5
A15: Brittney Phoenix | G15: 4 | R15: =SUM(B15:Q15) -> 4
A16: Paige Peirce | P16: 4 | R16: =SUM(B16:Q16) -> 4
A17: Leah Lebo | G17: 3 | P17: 1 | R17: =SUM(B17:Q17) -> 4
A18: Kelsey Boersma | B18: 3 | R18: =SUM(B18:Q18) -> 3
A19: Layla Den Hollander | C19: 3 | R19: =SUM(B19:Q19) -> 3
A20: Piper Holloway | E20: 3 | R20: =SUM(B20:Q20) -> 3
A21: Lily DenHollander | H21: 3 | R21: =SUM(B21:Q21) -> 3
A22: Emma Woodcock | L22: 3 | R22: =SUM(B22:Q22) -> 3
A23: Jo Jo Willis | G23: 2 | R23: =SUM(B23:Q23) -> 2
A25: 2D
A26: William Nadalin | J26: 5 | L26: 4 | M26: 4 | P26: 5 | R26: =SUM(B26:Q26) -> 18
A27: Elli Polisena | B27: 4 | H27: 3 | L27: 5 | M27: 5 | R27: =SUM(B27:Q27) -> 17
A28: Safiyyah Leitch | E28: 5 | G28: 1 | O28: 3 | P28: 3 | R28: =SUM(B28:Q28) -> 12
A29: Olivia Barger | B29: 3 | F29: 3 | H29: 5 | R29: =SUM(B29:Q29) -> 11
A30: JoJo Willis | E30: 4 | F30: 5 | R30: =SUM(B30:Q30) -> 9
A31: Emma Woodcock | G31: 4 | I31: 5 | R31: =SUM(B31:Q31) -> 9
A32: Rachel Cameron | J32: 4 | P32: 4 | R32: =SUM(B32:Q32) -> 8
A33: Hayden Greenwood | M33: 3 | O33: 5 | R33: =SUM(B33:Q33) -> 8
A34: Natalie Miller | G34: 3 | O34: 4 | R34: =SUM(B34:Q34) -> 7
A35: Leah Lebo | H35: 4 | L35: 3 | R35: =SUM(B35:Q35) -> 7
A36: Jazmin Morrison | D36: 5 | R36: =SUM(B36:Q36) -> 5
A37: Paige Peirce | B37: 5 | R37: =SUM(B37:Q37) -> 5
A38: Mila Bveaudoin | K38: 5 | R38: =SUM(B38:Q38) -> 5
A39: Lindsay Johnson | G39: 5 | R39: =SUM(B39:Q39) -> 5
A40: Jayden Smith | D40: 4 | R40: =SUM(B40:Q40) -> 4
A41: Peyton Morrison | F41: 4 | R41: =SUM(B41:Q41) -> 4
...

Sheet Senior
A1: NBHA District 2 3D Senior Rider Name | B1: Spring Thaw Saturday | C1: Spring Thaw Sunday | D1: Shining Star - May 31 | E1: Southern Gnome - Sat | F1: Southern Gnome - Sun | G1: CDA Day Sat | H1: CDA Day Sun | I1: ='Open 4D'!I1 -> Crane Classic- Sat | J1: ='Open 4D'!J1 -> Crane Classic - Sun | K1: TCF Saturday | L1: Paint it Purple Sat | M1: Paint it Purple Sun | N1: Paris - Sat | O1: Paris - Sun | P1: Shining Star | Q1: Finals Friday | R1: TOTAL | S1: Invitational | T1: Awards
A2: 1D | L2: .
A3: Caroline West | B3: 3 | C3: 4 | D3: 2 | F3: 3 | G3: 4 | H3: 5 | I3: 4 | J3: 4 | K3: 4 | O3: 4 | P3: 5 | R3: =SUM(B3:Q3) -> 42
A4: Glenn Pattison | C4: 5 | I4: 5 | J4: 5 | K4: 5 | L4: 5 | N4: 5 | O4: 5 | R4: =SUM(B4:Q4) -> 35
A5: Herb Hopkins | D5: 3 | E5: 5 | F5: 4 | G5: 5 | K5: 3 | L5: 4 | M5: 4 | N5: 3 | R5: =SUM(B5:Q5) -> 31
A6: Lisa Serada | B6: 5 | D6: 5 | E6: 4 | G6: 2 | M6: 3 | O6: 3 | R6: =SUM(B6:Q6) -> 22
A7: Denise Stoddart | F7: 5 | J7: 3 | K7: 2 | L7: 3 | M7: 5 | R7: =SUM(B7:Q7) -> 18
A8: Louise Annett | G8: 3 | H8: 4 | N8: 4 | P8: 4 | R8: =SUM(B8:Q8) -> 15
A9: Jen Peirce | B9: 4 | H9: 3 | R9: =SUM(B9:Q9) -> 7
A10: Brandi Lloyd | D10: 4 | I10: 3 | R10: =SUM(B10:Q10) -> 7
A11: Tracey Sivill | B11: 2 | R11: =SUM(B11:Q11) -> 2
A12: Brian Schraeder | B12: 1 | G12: 1 | R12: =SUM(B12:Q12) -> 2
A15: 2D (3D Worlds)
A16: Lisa Serada | C16: 5 | F16: 4 | J16: 4 | K16: 4 | L16: 5 | N16: 5 | R16: =SUM(B16:Q16) -> 27
A17: Brian Schraeder | F17: 5 | H17: 5 | O17: 4 | R17: =SUM(B17:Q17) -> 14
A18: Louise Annett | K18: 5 | L18: 3 | O18: 5 | R18: =SUM(B18:Q18) -> 13
A19: Herb Hopkins | I19: 5 | J19: 5 | R19: =SUM(B19:Q19) -> 10
A20: Tracey Sivill | C20: 4 | D20: 5 | R20: =SUM(B20:Q20) -> 9
A21: Jen Pierce | G21: 5 | R21: =SUM(B21:Q21) -> 5
A22: Irene Wiles | G22: 4 | R22: =SUM(B22:Q22) -> 4
A23: Brandi Lloyd | L23: 4 | R23: =SUM(B23:Q23) -> 4
A24: Caroline West | N24: 4 | R24: =SUM(B24:Q24) -> 4
A25: Cindy Bedard | L25: 2 | R25: =SUM(B25:Q25) -> 2
A26: 3D ( 5D Worlds)
A27: Jan Schraeder | B27: 3 | C27: 4 | E27: 2 | F27: 1 | G27: 3 | H27: 4 | K27: 4 | L27: 4 | M27: 5 | N27: 5 | O27: 3 | R27: =SUM(B27:Q27) -> 38
A28: Irene Wiles | B28: 5 | E28: 3 | F28: 3 | H28: 5 | J28: 4 | K28: 3 | L28: 3 | M28: 1 | N28: 3 | O28: 2 | R28: =SUM(B28:Q28) -> 32
A29: Brenda Ciglen | D29: 5 | E29: 4 | H29: 3 | I29: 3 | K29: 5 | L29: 5 | M29: 2 | N29: 4 | O29: 1 | R29: =SUM(B29:Q29) -> 32
A30: Marc Gagnon | D30: 4 | F30: 2 | H30: 2 | I30: 1 | J30: 3 | L30: 2 | M30: 4 | N30: 2 | P30: 5 | R30: =SUM(B30:Q30) -> 25
A31: Brian Schraeder | C31: 5 | E31: 5 | F31: 5 | G31: 5 | I31: 4 | R31: =SUM(B31:Q31) -> 24
A32: Sarah Moore | B32: 4 | E32: 1 | F32: 4 | G32: 4 | H32: 1 | R32: =SUM(B32:Q32) -> 14
A33: Cindy Bedard | I33: 2 | K33: 2 | M33: 3 | O33: 5 | R33: =SUM(B33:Q33) -> 12
A34: Lisa Serada | I34: 5 | J34: 5 | R34: =SUM(B34:Q34) -> 10
A35: Herb Hopkins | O35: 4 | R35: =SUM(B35:Q35) -> 4
R36: =SUM(B36:Q36) -> 0

Sheet Poles
A1: NBHA District 2 3D Open Poles Rider Name | B1: Spring Thaw Friday | C1: Spring Thaw Sunday | D1: Shining Star - May 16 | E1: Southern Gnome - Sat | F1: Southern Gnome - Sun | G1: Canada Day Friday | H1: Canada Day SUN | I1: Crane Classic- Fri | J1: ='Open 4D'!J1 -> Crane Classic - Sun | K1: TCF Friday | L1: Paint it Purple Sat | M1: Paint it Purple Sun | N1: Paris - Fri | O1: Paris Sunday | P1: Shining Star - Sept | Q1: Finals Friday | R1: TOTAL | S1: Invitational | T1: Awards
A2: 1D | L2: .
A3: Ashley Gardiner | B3: 5 | C3: 5 | H3: 4 | J3: 4 | L3: 3 | M3: 3.5 | N3: 4 | O3: 4 | R3: =SUM(B3:Q3) -> 32.5
A4: Brody Marshall | D4: 5 | G4: 4 | I4: 5 | K4: 5 | M4: 5 | N4: 5 | R4: =SUM(B4:Q4) -> 29
A5: Denise Stoddart | F5: 5 | G5: 3 | H5: 5 | J5: 3 | L5: 5 | R5: =SUM(B5:Q5) -> 21
A6: Nicole Bater | J6: 2 | L6: 4 | O6: 5 | R6: =SUM(B6:Q6) -> 11
A7: Karen Briscoe | E7: 5 | G7: 5 | R7: =SUM(B7:Q7) -> 10
A8: Ainsley Kosh | J8: 5 | M8: 3.5 | R8: =SUM(B8:Q8) -> 8.5
A9: Herb Hopkins | H9: 3 | L9: 2 | R9: =SUM(B9:Q9) -> 5
A10: Paige Peirce | P10: 5 | R10: =SUM(B10:Q10) -> 5
A11: Saige Woodland | F11: 4 | R11: =SUM(B11:Q11) -> 4
A12: Brittany Tessel | J12: 4 | R12: =SUM(B12:Q12) -> 4
A13: Heather Pople | P13: 4 | R13: =SUM(B13:Q13) -> 4
A14: Jayden Smith | F14: 3 | R14: =SUM(B14:Q14) -> 3
A15: Safiyyah Leitch | P15: 3 | R15: =SUM(B15:Q15) -> 3
A16: 2D
A17: Herb Hopkins | I17: 5 | J17: 4 | M17: 5 | N17: 5 | O17: 5 | R17: =SUM(B17:Q17) -> 24
A18: Rachel Cameron | I18: 4 | K18: 4 | N18: 4 | P18: 4 | R18: =SUM(B18:Q18) -> 16
A19: Alycia Coulltes | D19: 5 | K19: 5 | L19: 5 | R19: =SUM(B19:Q19) -> 15
A20: Heather Pople | D20: 3 | F20: 4 | H20: 3 | R20: =SUM(B20:Q20) -> 10
A21: Denise Stoddart | G21: 5 | J21: 5 | R21: =SUM(B21:Q21) -> 10
A22: Nicole Bater | D22: 4 | H22: 4 | R22: =SUM(B22:Q22) -> 8
A23: Warren Craig | B23: 4 | F23: 3 | R23: =SUM(B23:Q23) -> 7
A24: Madison Brockman | L24: 4 | M24: 3 | R24: =SUM(B24:Q24) -> 7
A25: Layla Den Hollander | C25: 4 | K25: 2 | R25: =SUM(B25:Q25) -> 6
A26: Jayden Smith | L26: 3 | P26: 3 | R26: =SUM(B26:Q26) -> 6
A27: Mackenzie Murdoch | B27: 5 | R27: =SUM(B27:Q27) -> 5
A28: Olivia Den Hollander | C28: 5 | R28: =SUM(B28:Q28) -> 5
A29: Ashley Gardiner | E29: 5 | R29: =SUM(B29:Q29) -> 5
A30: James Wilson | F30: 5 | R30: =SUM(B30:Q30) -> 5
A31: JoJo Willis | H31: 5 | R31: =SUM(B31:Q31) -> 5
A32: Avery Thomas | P32: 5 | R32: =SUM(B32:Q32) -> 5
A33: Caroline West | M33: 4 | R33: =SUM(B33:Q33) -> 4
A34: Safiyyah Leitch | O34: 4 | R34: =SUM(B34:Q34) -> 4
A35: Morgan Fletcher | B35: 3 | R35: =SUM(B35:Q35) -> 3
A36: Saige Woodland | C36: 3 | R36: =SUM(B36:Q36) -> 3
A37: Louise Annett | K37: 3 | R37: =SUM(B37:Q37) -> 3
A38: Lily DenHollander | J38: 2 | R38: =SUM(B38:Q38) -> 2
A39: Clara Wyville | P39: 2 | R39: =SUM(B39:Q39) -> 2
A40: Kaeleigh Farrrington | B40: 2 | R40: =SUM(B40:Q40) -> 2
...

Sheet Green
A1: NBHA District 2 - 3D Green as Grass Rider Name | B1: Spring thaw Sat | C1: Spring Thaw Sunday | D1: Shining Star - May 16 | E1: Southern Gnome - Sat | F1: Southern Gnome - Sun | G1: CDA Day Sat | H1: CDA Day Sun | I1: ='Open 4D'!I1 -> Crane Classic- Sat | J1: ='Open 4D'!J1 -> Crane Classic - Sun | K1: TCF Saturday | L1: Paint it Purple Sat | M1: Paint it Purple Sun | N1: Paris - Sat | O1: Paris - Sun | P1: Shining Star Sept | Q1: Finals Friday | R1: TOTAL | S1: Invitational | T1: Awards
A2: 1D | L2: .
A3: Mila Beoudoin | C3: 4 | F3: 4 | H3: 2 | I3: 5 | K3: 3 | L3: 3 | M3: 5 | R3: =SUM(B3:Q3) -> 26
A4: Brittney Phoenix | B4: 5 | C4: 5 | G4: 2 | H4: 4 | K4: 4 | R4: =SUM(B4:Q4) -> 20
A5: Leah Lebo | G5: 4 | H5: 3 | J5: 1 | L5: 5 | M5: 4 | N5: 5 | O5: 5 | R5: =SUM(B5:Q5) -> 27
A6: Jayden Smith | B6: 4 | C6: 3 | D6: 4 | J6: 2 | K6: 2 | M6: 2 | R6: =SUM(B6:Q6) -> 17
A7: Bryelle Brunet | G7: 3 | H7: 5 | J7: 5 | R7: =SUM(B7:Q7) -> 13
A8: Madison Brockman | J8: 4 | M8: 3 | N8: 3 | R8: =SUM(B8:Q8) -> 10
A9: Mirabelle Brunet | J9: 3 | K9: 5 | R9: =SUM(B9:Q9) -> 8
A10: Jase MacIver | H10: 1 | K10: 1 | L10: 4 | R10: =SUM(B10:Q10) -> 6
A11: Avery Thomas | P11: 5 | R11: =SUM(B11:Q11) -> 5
A12: Leah Hazeleger | B12: 2 | C12: 2 | R12: =SUM(B12:Q12) -> 4
A13: Elyssa McEachern | P13: 4 | R13: =SUM(B13:Q13) -> 4
A14: Natalie Miller | N14: 4 | R14: =SUM(B14:Q14) -> 4
A15: Jen Peirce | B15: 3 | R15: =SUM(B15:Q15) -> 3
A16: Christine Allen | B16: 1 | R16: =SUM(B16:Q16) -> 1
R17: =SUM(B17:Q17) -> 0
A20: Peyton Morrison | F20: 5 | G20: 5 | R20: =SUM(B20:Q20) -> 10 | T20: Graduateed Canada Day
A21: Hayden Greenwood | E21: 5 | R21: 0 | T21: Graduated Southern Gnome 6.6.2026
A22: William Nadalin | D22: 5 | R22: 0 | T22: Graduated Hanover 5.17.2026
R23: =SUM(B23:K23) -> 0
R24: =SUM(B24:K24) -> 0
R25: =SUM(B25:K25) -> 0
R26: =SUM(B26:K26) -> 0
R27: =SUM(B27:K27) -> 0
R28: =SUM(B28:K28) -> 0
R29: =SUM(B29:K29) -> 0
R30: =SUM(B30:K30) -> 0
R31: =SUM(B31:K31) -> 0
R32: =SUM(B32:K32) -> 0
R33: =SUM(B33:K33) -> 0
R34: =SUM(B34:K34) -> 0
R35: =SUM(B35:K35) -> 0
A36: 2D
A37: Scarlett Nadalin | I37: 5 | J37: 5 | L37: 5 | M37: 5 | N37: 5 | O37: 3 | P37: 5 | R37: =SUM(B37:Q37) -> 33
A38: Clara Wyville | D38: 5 | K38: 2 | L38: 4 | M38: 4 | O38: 7 | R38: =SUM(B38:Q38) -> 22
A39: Leah Hazeleger | C39: 3 | G39: 5 | K39: 4 | L39: 1 | N39: 4 | P39: 3 | R39: =SUM(B39:Q39) -> 20
A40: Jayden Smith | H40: 5 | I40: 3 | L40: 2 | N40: 3 | P40: 4 | R40: =SUM(B40:Q40) -> 17
A41: Madison Brockman | I41: 4 | K41: 5 | M41: 2 | R41: =SUM(B41:Q41) -> 11
A42: Brooklyn Foulds | B42: 4 | C42: 5 | R42: =SUM(B42:Q42) -> 9
...

Sheet Member2
A2: As of 5.18.2026 | I2: As of 7.7.2026 | Q2: As of 9.12.2026
A3: Member ID | B3: Type | C3: Last Name | D3: First Name | E3: Birth Date | F3: State & Section | G3: Expire Date | I3: Member ID | J3: Type | K3: Last Name | L3: First Name | M3: Birth Date | N3: State & Section | O3: Expire Date | Q3: Member ID | R3: Type | S3: Last Name | T3: First Name | U3: Birth Date | V3: State & Section | W3: Expire Date
A4: 126852 | B4: Adult | C4: Allen | D4: Christine | E4: 1990-12-18 | F4: Ontario - ON02 | G4: 2027-01-01 | I4: 126852 | J4: Adult | K4: Allen | L4: Christine | M4: 1990-12-18 | N4: Ontario - ON02 | O4: 2027-01-01 | P4: =A4=I4 -> TRUE | Q4: 126852 | R4: Adult | S4: Allen | T4: Christine | U4: 1990-12-18 | V4: Ontario - ON02 | W4: 2027-01-01 | X4: =I4=Q4 -> TRUE
A5: 64935 | B5: Adult | C5: Annett | D5: Louise | E5: 1966-07-16 | F5: Ontario - ON02 | G5: 2027-01-01 | I5: 64935 | J5: Adult | K5: Annett | L5: Louise | M5: 1966-07-16 | N5: Ontario - ON02 | O5: 2027-01-01 | P5: =A5=I5 -> TRUE | Q5: 64935 | R5: Adult | S5: Annett | T5: Louise | U5: 1966-07-16 | V5: Ontario - ON02 | W5: 2027-01-01 | X5: =I5=Q5 -> TRUE
A6: 134228 | B6: Youth | C6: Auld | D6: Lacey | E6: 2016-03-11 | F6: Ontario - ON02 | G6: 2027-01-01 | I6: 134228 | J6: Youth | K6: Auld | L6: Lacey | M6: 2016-03-11 | N6: Ontario - ON02 | O6: 2027-01-01 | P6: =A6=I6 -> TRUE | Q6: 134228 | R6: Youth | S6: Auld | T6: Lacey | U6: 2016-03-11 | V6: Ontario - ON02 | W6: 2027-01-01 | X6: =I6=Q6 -> TRUE
A7: 103142 | B7: Adult | C7: Aulthouse | D7: Sage | E7: 1998-07-03 | F7: Ontario - ON02 | G7: 2027-01-01 | I7: 103142 | J7: Adult | K7: Aulthouse | L7: Sage | M7: 1998-07-03 | N7: Ontario - ON02 | O7: 2027-01-01 | P7: =A7=I7 -> TRUE | Q7: 103142 | R7: Adult | S7: Aulthouse | T7: Sage | U7: 1998-07-03 | V7: Ontario - ON02 | W7: 2027-01-01 | X7: =I7=Q7 -> TRUE
A8: 129433 | B8: Youth | C8: Barger | D8: Olivia | E8: 2009-10-04 | F8: Ontario - ON02 | G8: 2028-01-01 | I8: 129433 | J8: Youth | K8: Barger | L8: Olivia | M8: 2009-10-04 | N8: Ontario - ON02 | O8: 2028-01-01 | P8: =A8=I8 -> TRUE | Q8: 129433 | R8: Youth | S8: Barger | T8: Olivia | U8: 2009-10-04 | V8: Ontario - ON02 | W8: 2028-01-01 | X8: =I8=Q8 -> TRUE
A9: 132718 | B9: Adult | C9: Bater | D9: Nicole | E9: 2000-07-15 | F9: Ontario - ON02 | G9: 2027-01-01 | I9: 132718 | J9: Adult | K9: Bater | L9: Nicole | M9: 2000-07-15 | N9: Ontario - ON02 | O9: 2027-01-01 | P9: =A9=I9 -> TRUE | Q9: 132718 | R9: Adult | S9: Bater | T9: Nicole | U9: 2000-07-15 | V9: Ontario - ON02 | W9: 2027-01-01 | X9: =I9=Q9 -> TRUE
A10: 129526 | B10: Youth | C10: Beaudoin | D10: Mila | E10: 2012-01-10 | F10: Ontario - ON02 | G10: 2027-01-01 | I10: 129526 | J10: Youth | K10: Beaudoin | L10: Mila | M10: 2012-01-10 | N10: Ontario - ON02 | O10: 2027-01-01 | P10: =A10=I10 -> TRUE | Q10: 129526 | R10: Youth | S10: Beaudoin | T10: Mila | U10: 2012-01-10 | V10: Ontario - ON02 | W10: 2027-01-01 | X10: =I10=Q10 -> TRUE
A11: 82650 | B11: Adult | C11: Becker | D11: Tonya | E11: 1989-07-10 | F11: Ontario - ON02 | G11: 2027-01-01 | I11: 82650 | J11: Adult | K11: Becker | L11: Tonya | M11: 1989-07-10 | N11: Ontario - ON02 | O11: 2027-01-01 | P11: =A11=I11 -> TRUE | Q11: 82650 | R11: Adult | S11: Becker | T11: Tonya | U11: 1989-07-10 | V11: Ontario - ON02 | W11: 2027-01-01 | X11: =I11=Q11 -> TRUE
A12: 111809 | B12: Adult | C12: Bedard | D12: Cindy | E12: 1964-08-08 | F12: Ontario - ON02 | G12: 2027-01-01 | I12: 111809 | J12: Adult | K12: Bedard | L12: Cindy | M12: 1964-08-08 | N12: Ontario - ON02 | O12: 2027-01-01 | P12: =A12=I12 -> TRUE | Q12: 111809 | R12: Adult | S12: Bedard | T12: Cindy | U12: 1964-08-08 | V12: Ontario - ON02 | W12: 2027-01-01 | X12: =I12=Q12 -> TRUE
A13: 134129 | B13: Youth | C13: Binns | D13: Caitlyn | E13: 2007-04-08 | F13: Ontario - ON02 | G13: 2027-01-01 | I13: 134129 | J13: Youth | K13: Binns | L13: Caitlyn | M13: 2007-04-08 | N13: Ontario - ON02 | O13: 2027-01-01 | P13: =A13=I13 -> TRUE | Q13: 134129 | R13: Youth | S13: Binns | T13: Caitlyn | U13: 2007-04-08 | V13: Ontario - ON02 | W13: 2027-01-01 | X13: =I13=Q13 -> TRUE
A14: 121237 | B14: Youth | C14: Blanchet | D14: Charlie | E14: 2008-12-25 | F14: Ontario - ON02 | G14: 2027-01-01 | I14: 121237 | J14: Youth | K14: Blanchet | L14: Charlie | M14: 2008-12-25 | N14: Ontario - ON02 | O14: 2027-01-01 | P14: =A14=I14 -> TRUE | Q14: 121237 | R14: Youth | S14: Blanchet | T14: Charlie | U14: 2008-12-25 | V14: Ontario - ON02 | W14: 2027-01-01 | X14: =I14=Q14 -> TRUE
A15: 134072 | B15: Youth | C15: Boersma | D15: Kelsey | E15: 2009-03-13 | F15: Ontario - ON02 | G15: 2027-01-01 | I15: 134072 | J15: Youth | K15: Boersma | L15: Kelsey | M15: 2009-03-13 | N15: Ontario - ON02 | O15: 2027-01-01 | P15: =A15=I15 -> TRUE | Q15: 134072 | R15: Youth | S15: Boersma | T15: Kelsey | U15: 2009-03-13 | V15: Ontario - ON02 | W15: 2027-01-01 | X15: =I15=Q15 -> TRUE
... A20: 134426 | B20: Adult | C20: Ciglen | D20: Brenda | E20: 1962-09-21 | F20: Ontario - ON02 | G20: 2027-01-01 | I20: 131660 | J20: Youth | K20: Brunet | L20: Mirabelle | M20: 2016-05-27 | N20: Ontario - ON02 | O20: 2027-01-01 | P20: =A20=I20 -> FALSE | Q20: 131660 | R20: Youth | S20: Brunet | T20: Mirabelle | U20: 2016-05-27 | V20: Ontario - ON02 | W20: 2027-01-01 | X20: =I20=Q20 -> TRUE
A21: 108994 | B21: Adult | C21: Ciglen | D21: Madison | E21: 2004-11-01 | F21: Ontario - ON02 | G21: 2029-01-01 | I21: 110939 | J21: Youth | K21: Cameron | L21: Rachel | M21: 2007-09-20 | N21: Ontario - ON02 | O21: 2027-01-01 | P21: =A19=I21 -> TRUE | Q21: 110939 | R21: Youth | S21: Cameron | T21: Rachel | U21: 2007-09-20 | V21: Ontario - ON02 | W21: 2027-01-01 | X21: =I21=Q21 -> TRUE
A22: 121661 | B22: Youth | C22: Clarke | D22: Kyla | E22: 2009-03-08 | F22: Ontario - ON02 | G22: 2027-01-01 | I22: 134426 | J22: Adult | K22: Ciglen | L22: Brenda | M22: 1962-09-21 | N22: Ontario - ON02 | O22: 2027-01-01 | P22: =A20=I22 -> TRUE | Q22: 134426 | R22: Adult | S22: Ciglen | T22: Brenda | U22: 1962-09-21 | V22: Ontario - ON02 | W22: 2027-01-01 | X22: =I22=Q22 -> TRUE
A23: 70553 | B23: Adult | C23: Cook | D23: Jayme | E23: 1984-07-27 | F23: Ontario - ON02 | G23: 2027-01-01 | I23: 108994 | J23: Adult | K23: Ciglen | L23: Madison | M23: 2004-11-01 | N23: Ontario - ON02 | O23: 2029-01-01 | P23: =A21=I23 -> TRUE | Q23: 108994 | R23: Adult | S23: Ciglen | T23: Madison | U23: 2004-11-01 | V23: Ontario - ON02 | W23: 2029-01-01 | X23: =I23=Q23 -> TRUE
A24: 115290 | B24: Youth | C24: Cooper | D24: Gwen | E24: 2007-09-26 | F24: Ontario - ON02 | G24: 2027-01-01 | I24: 121661 | J24: Youth | K24: Clarke | L24: Kyla | M24: 2009-03-08 | N24: Ontario - ON02 | O24: 2027-01-01 | P24: =A22=I24 -> TRUE | Q24: 121661 | R24: Youth | S24: Clarke | T24: Kyla | U24: 2009-03-08 | V24: Ontario - ON02 | W24: 2027-01-01 | X24: =I24=Q24 -> TRUE
A25: 100784 | B25: Adult | C25: Coultes | D25: Alycia | E25: 2004-01-05 | F25: Ontario - ON02 | G25: 2029-01-01 | I25: 70553 | J25: Adult | K25: Cook | L25: Jayme | M25: 1984-07-27 | N25: Ontario - ON02 | O25: 2027-01-01 | P25: =A23=I25 -> TRUE | Q25: 70553 | R25: Adult | S25: Cook | T25: Jayme | U25: 1984-07-27 | V25: Ontario - ON02 | W25: 2027-01-01 | X25: =I25=Q25 -> TRUE
A26: 66204 | B26: Adult | C26: Craig | D26: Warren | E26: 1957-05-28 | F26: Ontario - ON02 | G26: 2029-01-01 | I26: 115290 | J26: Youth | K26: Cooper | L26: Gwen | M26: 2007-09-26 | N26: Ontario - ON02 | O26: 2027-01-01 | P26: =A24=I26 -> TRUE
A27: 106231 | B27: Youth | C27: Craig | D27: Zoey | E27: 2007-11-04 | F27: Ontario - ON02 | G27: 2027-01-01 | I27: 100784 | J27: Adult | K27: Coultes | L27: Alycia | M27: 2004-01-05 | N27: Ontario - ON02 | O27: 2029-01-01 | P27: =A25=I27 -> TRUE | Q27: 100784 | R27: Adult | S27: Coultes | T27: Alycia | U27: 2004-01-05 | V27: Ontario - ON02 | W27: 2029-01-01 | X27: =I27=Q27 -> TRUE
A28: 134384 | B28: Youth | C28: Culin | D28: Ellah | E28: 2011-01-13 | F28: Ontario - ON02 | G28: 2027-01-01 | I28: 66204 | J28: Adult | K28: Craig | L28: Warren | M28: 1957-05-28 | N28: Ontario - ON02 | O28: 2029-01-01 | P28: =A26=I28 -> TRUE | Q28: 66204 | R28: Adult | S28: Craig | T28: Warren | U28: 1957-05-28 | V28: Ontario - ON02 | W28: 2029-01-01 | X28: =I28=Q28 -> TRUE
A29: 126671 | B29: Youth | C29: Degagne | D29: Baye | E29: 2010-12-16 | F29: Ontario - ON02 | G29: 2027-01-01 | I29: 106231 | J29: Youth | K29: Craig | L29: Zoey | M29: 2007-11-04 | N29: Ontario - ON02 | O29: 2027-01-01 | P29: =A27=I29 -> TRUE | Q29: 106231 | R29: Youth | S29: Craig | T29: Zoey | U29: 2007-11-04 | V29: Ontario - ON02 | W29: 2027-01-01 | X29: =I29=Q29 -> TRUE
A30: 125915 | B30: Youth | C30: Den Hollander | D30: Layla | E30: 2011-06-05 | F30: Ontario - ON02 | G30: 2028-01-01 | I30: 126671 | J30: Youth | K30: Degagne | L30: Baye | M30: 2010-12-16 | N30: Ontario - ON02 | O30: 2027-01-01 | P30: =I30=A29 -> TRUE | Q30: 126671 | R30: Youth | S30: Degagne | T30: Baye | U30: 2010-12-16 | V30: Ontario - ON02 | W30: 2027-01-01 | X30: =I30=Q30 -> TRUE
A31: 125900 | B31: Adult | C31: Den Hollander | D31: Olivia | E31: 2006-10-16 | F31: Ontario - ON02 | G31: 2027-01-01 | I31: 125915 | J31: Youth | K31: Den Hollander | L31: Layla | M31: 2011-06-05 | N31: Ontario - ON02 | O31: 2028-01-01 | P31: =I31=A30 -> TRUE | Q31: 125915 | R31: Youth | S31: Den Hollander | T31: Layla | U31: 2011-06-05 | V31: Ontario - ON02 | W31: 2028-01-01 | X31: =I31=Q31 -> TRUE
A32: 116468 | B32: Youth | C32: Dobbins | D32: Isla | E32: 2009-07-24 | F32: Ontario - ON02 | G32: 2029-01-01 | I32: 125900 | J32: Adult | K32: Den Hollander | L32: Olivia | M32: 2006-10-16 | N32: Ontario - ON02 | O32: 2027-01-01 | P32: =I32=A31 -> TRUE | Q32: 125900 | R32: Adult | S32: Den Hollander | T32: Olivia | U32: 2006-10-16 | V32: Ontario - ON02 | W32: 2027-01-01 | X32: =I32=Q32 -> TRUE
A33: 103369 | B33: Adult | C33: Farrington | D33: Kaeleigh | E33: 2000-03-29 | F33: Ontario - ON02 | G33: 2027-01-01 | I33: 116468 | J33: Youth | K33: Dobbins | L33: Isla | M33: 2009-07-24 | N33: Ontario - ON02 | O33: 2029-01-01 | P33: =I33=A32 -> TRUE | Q33: 116468 | R33: Youth | S33: Dobbins | T33: Isla | U33: 2009-07-24 | V33: Ontario - ON02 | W33: 2029-01-01 | X33: =I33=Q33 -> TRUE
A34: 91632 | B34: Adult | C34: Fazackerley | D34: Janet | E34: 1963-07-01 | F34: Ontario - ON02 | G34: 2027-01-01 | I34: 100788 | J34: Adult | K34: Dufour | L34: Elizabeth | M34: 1996-11-08 | N34: Ontario - ON02 | O34: 2027-01-01 | P34: =I34=A33 -> FALSE | Q34: 100788 | R34: Adult | S34: Dufour | T34: Elizabeth | U34: 1996-11-08 | V34: Ontario - ON02 | W34: 2027-01-01 | X34: =I34=Q34 -> TRUE
A35: 67703 | B35: Adult | C35: Fisher | D35: Laurie | E35: 1960-09-21 | F35: Ontario - ON02 | G35: 2027-01-01 | I35: 103369 | J35: Adult | K35: Farrington | L35: Kaeleigh | M35: 2000-03-29 | N35: Ontario - ON02 | O35: 2027-01-01 | P35: =I35=A33 -> TRUE | Q35: 103369 | R35: Adult | S35: Farrington | T35: Kaeleigh | U35: 2000-03-29 | V35: Ontario - ON02 | W35: 2027-01-01 | X35: =I35=Q35 -> TRUE
A36: 134187 | B36: Youth | C36: Foulds | D36: Brooklyn | E36: 2017-12-26 | F36: Ontario - ON02 | G36: 2027-01-01 | I36: 91632 | J36: Adult | K36: Fazackerley | L36: Janet | M36: 1963-07-01 | N36: Ontario - ON02 | O36: 2027-01-01 | P36: =I36=A34 -> TRUE | Q36: 91632 | R36: Adult | S36: Fazackerley | T36: Janet | U36: 1963-07-01 | V36: Ontario - ON02 | W36: 2027-01-01 | X36: =I36=Q36 -> TRUE
A37: 134186 | B37: Youth | C37: Foulds | D37: Danica | E37: 2016-08-29 | F37: Ontario - ON02 | G37: 2027-01-01 | I37: 67703 | J37: Adult | K37: Fisher | L37: Laurie | M37: 1960-09-21 | N37: Ontario - ON02 | O37: 2027-01-01 | P37: =I37=A35 -> TRUE | Q37: 67703 | R37: Adult | S37: Fisher | T37: Laurie | U37: 1960-09-21 | V37: Ontario - ON02 | W37: 2027-01-01 | X37: =I37=Q37 -> TRUE
A38: 94821 | B38: Adult | C38: Fournier | D38: Emily | E38: 1997-12-16 | F38: Ontario - ON02 | G38: 2027-01-01 | I38: 134187 | J38: Youth | K38: Foulds | L38: Brooklyn | M38: 2017-12-26 | N38: Ontario - ON02 | O38: 2027-01-01 | P38: =I38=A36 -> TRUE | Q38: 134187 | R38: Youth | S38: Foulds | T38: Brooklyn | U38: 2017-12-26 | V38: Ontario - ON02 | W38: 2027-01-01 | X38: =I38=Q38 -> TRUE
A39: 134118 | B39: Youth | C39: Fraser | D39: Hope | E39: 2011-06-11 | F39: Ontario - ON02 | G39: 2027-01-01 | I39: 134186 | J39: Youth | K39: Foulds | L39: Danica | M39: 2016-08-29 | N39: Ontario - ON02 | O39: 2027-01-01 | P39: =I39=A37 -> TRUE | Q39: 134186 | R39: Youth | S39: Foulds | T39: Danica | U39: 2016-08-29 | V39: Ontario - ON02 | W39: 2027-01-01 | X39: =I39=Q39 -> TRUE
A40: 105142 | B40: Adult | C40: Gardiner | D40: Ashley | E40: 1991-05-24 | F40: Ontario - ON02 | G40: 2027-01-01 | I40: 94821 | J40: Adult | K40: Fournier | L40: Emily | M40: 1997-12-16 | N40: Ontario - ON02 | O40: 2027-01-01 | P40: =I40=A38 -> TRUE | Q40: 94821 | R40: Adult | S40: Fournier | T40: Emily | U40: 1997-12-16 | V40: Ontario - ON02 | W40: 2027-01-01 | X40: =I40=Q40 -> TRUE
A41: 70931 | B41: Adult | C41: Gowanlock | D41: Jessie | E41: 1985-10-28 | F41: Ontario - ON02 | G41: 2027-01-01 | I41: 134118 | J41: Youth | K41: Fraser | L41: Hope | M41: 2011-06-11 | N41: Ontario - ON02 | O41: 2027-01-01 | P41: =I41=A39 -> TRUE | Q41: 134118 | R41: Youth | S41: Fraser | T41: Hope | U41: 2011-06-11 | V41: Ontario - ON02 | W41: 2027-01-01 | X41: =I41=Q41 -> TRUE
A42: 109646 | B42: Youth | C42: Greenwood | D42: Hayden | E42: 2015-02-03 | F42: Ontario - ON02 | G42: 2027-01-01 | I42: 87713 | J42: Adult | K42: Gagnon | L42: Brigitte | M42: 1998-02-04 | N42: Ontario - ON02 | O42: 2027-01-01 | P42: =I42=A40 -> FALSE | Q42: 87713 | R42: Adult | S42: Gagnon | T42: Brigitte | U42: 1998-02-04 | V42: Ontario - ON02 | W42: 2027-01-01 | X42: =I42=Q42 -> TRUE
A43: 121385 | B43: Adult | C43: Gregson | D43: Amber | E43: 2006-09-03 | F43: Ontario - ON02 | G43: 2027-01-01 | I43: 91634 | J43: Adult | K43: Gagnon | L43: Marc | M43: 1960-12-22 | N43: Ontario - ON02 | O43: 2027-01-01 | P43: =I43=A41 -> FALSE | Q43: 91634 | R43: Adult | S43: Gagnon | T43: Marc | U43: 1960-12-22 | V43: Ontario - ON02 | W43: 2027-01-01 | X43: =I43=Q43 -> TRUE
A44: 103147 | B44: Adult | C44: Haid | D44: Eric | E44: 1989-05-31 | F44: Ontario - ON02 | G44: 2027-01-01 | I44: 105142 | J44: Adult | K44: Gardiner | L44: Ashley | M44: 1991-05-24 | N44: Ontario - ON02 | O44: 2027-01-01 | P44: =I44=A40 -> TRUE | Q44: 105142 | R44: Adult | S44: Gardiner | T44: Ashley | U44: 1991-05-24 | V44: Ontario - ON02 | W44: 2027-01-01 | X44: =I44=Q44 -> TRUE
A45: 103836 | B45: Adult | C45: Hammond | D45: Jesilyn | E45: 2005-02-26 | F45: Ontario - ON02 | G45: 2027-01-01 | I45: 70931 | J45: Adult | K45: Gowanlock | L45: Jessie | M45: 1985-10-28 | N45: Ontario - ON02 | O45: 2027-01-01 | P45: =I45=A41 -> TRUE | Q45: 70931 | R45: Adult | S45: Gowanlock | T45: Jessie | U45: 1985-10-28 | V45: Ontario - ON02 | W45: 2027-01-01 | X45: =I45=Q45 -> TRUE
...

Sheet NBHA Guidelines

Sheet Teen
A1: NBHA District 2 - 4D Teen Rider Name | B1: Spring Thaw Saturday | C1: Spring Thaw Sunday | D1: May TnB | E1: Southern Gnome - Sat | F1: Southern Gnome - Sun | G1: June TnB | H1: Crane Classic | I1: Crane Classic | J1: CDA Day Sat | K1: CDA Dau Sun | L1: TCF Friday | M1: TCF Sunday | N1: Finals Friday | O1: Finals Sat | P1: TOTAL
A2: 1D
P3: =SUM(B3:O3) -> 0
P4: =SUM(B4:O4) -> 0
P5: =SUM(B5:O5) -> 0
P6: =SUM(B6:O6) -> 0
P7: =SUM(B7:O7) -> 0
P8: =SUM(B8:O8) -> 0
P9: =SUM(B9:O9) -> 0
P10: =SUM(B10:O10) -> 0
P11: =SUM(B11:O11) -> 0
P12: =SUM(B12:O12) -> 0
P13: =SUM(B13:O13) -> 0
P14: =SUM(B14:O14) -> 0
... P24: =SUM(B24:O24) -> 0
A25: 2D
P26: =SUM(B26:O26) -> 0
P27: =SUM(B27:O27) -> 0
P28: =SUM(B28:O28) -> 0
P29: =SUM(B29:O29) -> 0
P30: =SUM(B30:O30) -> 0
P31: =SUM(B31:O31) -> 0
P32: =SUM(B32:O32) -> 0
P33: =SUM(B33:O33) -> 0
P34: =SUM(B34:O34) -> 0
P35: =SUM(B35:O35) -> 0
P36: =SUM(B36:O36) -> 0
P37: =SUM(B37:O37) -> 0
... P58: =SUM(B58:O58) -> 0
A59: 3D
P60: =SUM(B60:O60) -> 0
P61: =SUM(B61:O61) -> 0
P62: =SUM(B62:O62) -> 0
P63: =SUM(B63:O63) -> 0
P64: =SUM(B64:O64) -> 0
P65: =SUM(B65:O65) -> 0
P66: =SUM(B66:O66) -> 0
P67: =SUM(B67:O67) -> 0
P68: =SUM(B68:O68) -> 0
P69: =SUM(B69:O69) -> 0
...

Sheet Youth
A1: NBHA District 2 - 4D Youth Rider Name | B1: Spring Thaw Saturday | C1: Spring Thaw Sunday | D1: Shining Star | E1: Southern Gnome - Sat | F1: Southern Gnome - Sun | G1: June TnB | H1: CDA Day sAT | I1: CDA Day SUN | J1: Charlie Hill | K1: Crane Sat | L1: Crane Sun | M1: TCF Saturday | N1: TCF Sunday | O1: Paint it Purple Sat | P1: Paint it Purple Sun | Q1: Paris | R1: Paris | S1: Shing Star | T1: Finals Friday | U1: Finals Sat | V1: TOTAL | W1: World qualifier
A2: 1D
A3: Hayden Greenwood | B3: 5 | V3: =SUM(B3:U3) -> 5
V4: =SUM(B4:U4) -> 0
V5: =SUM(B5:U5) -> 0
V6: =SUM(B6:U6) -> 0
V7: =SUM(B7:U7) -> 0
A8: 2D
V9: =SUM(B9:U9) -> 0
A10: 3D
V11: =SUM(B11:U11) -> 0
V12: =SUM(B12:U12) -> 0
V13: =SUM(B13:U13) -> 0
A14: 4D
A15: Leah Hazeleger | B15: 5
A16: Brooklyn Foulds | B16: 4
A17: Danica Foulds | B17: 3
A18: Addison Fletcher | B18: 2 | V18: =SUM(B18:U18) -> 2
A19: Morgan Fletcher | B19: 1 | V19: =SUM(B19:U19) -> 1
A20: 5D
V21: =SUM(B21:U21) -> 0
V22: =SUM(B22:U22) -> 0
V23: =SUM(B23:U23) -> 0
V24: =SUM(B24:U24) -> 0
V25: =SUM(B25:U25) -> 0

Sheet Senior for Worlds
A1: NBHA District 2 - 4D Senior for Worlds Rider Name | B1: Spring Thaw Saturday | C1: Spring Thaw Sunday | D1: TnB May | E1: Southern Gnome - Sat | F1: Southern Gnome - Sun | G1: June TnB | H1: Crane Classic | I1: Crane Classic | J1: CDA Day SAT | K1: CDA Day SUN | L1: TCF Friday | M1: TCF Sunday | N1: Finals Friday | O1: Finals Sat | P1: TOTAL | Q1: Invitational | R1: World qualifier
A2: 1D
P3: =SUM(B3:O3) -> 0
P4: =SUM(B4:O4) -> 0
P5: =SUM(B5:O5) -> 0
P6: =SUM(B6:O6) -> 0
P7: =SUM(B7:O7) -> 0
P8: =SUM(B8:O8) -> 0
P9: =SUM(B9:O9) -> 0
P10: =SUM(B10:O10) -> 0
P11: =SUM(B11:O11) -> 0
P12: =SUM(B12:O12) -> 0
P13: =SUM(B13:O13) -> 0
P14: =SUM(B14:O14) -> 0
... P21: =SUM(B21:O21) -> 0
A22: 2D
P23: =SUM(B23:O23) -> 0
P24: =SUM(B24:O24) -> 0
P25: =SUM(B25:O25) -> 0
P26: =SUM(B26:O26) -> 0
P27: =SUM(B27:O27) -> 0
P28: =SUM(B28:O28) -> 0
P29: =SUM(B29:O29) -> 0
P30: =SUM(B30:O30) -> 0
P31: =SUM(B31:O31) -> 0
P32: =SUM(B32:O32) -> 0
P33: =SUM(B33:O33) -> 0
P34: =SUM(B34:O34) -> 0
... P48: =SUM(B48:O48) -> 0
A49: 3D
P50: =SUM(B50:O50) -> 0
P51: =SUM(B51:O51) -> 0
P52: =SUM(B52:O52) -> 0
P53: =SUM(B53:O53) -> 0
P54: =SUM(B54:O54) -> 0
P55: =SUM(B55:O55) -> 0
P56: =SUM(B56:O56) -> 0
P57: =SUM(B57:O57) -> 0
P58: =SUM(B58:O58) -> 0
P59: =SUM(B59:O59) -> 0
...
